BEGIN:VCALENDAR
VERSION:2.0
PRODID:-//STRAWANZERIN - ECPv4.9.5//NONSGML v1.0//EN
CALSCALE:GREGORIAN
METHOD:PUBLISH
X-WR-CALNAME:STRAWANZERIN
X-ORIGINAL-URL:https://www.strawanzerin.at
X-WR-CALDESC:Veranstaltungen im STRAWANZERIN
BEGIN:VTIMEZONE
TZID:"Europe/Helsinki"
BEGIN:DAYLIGHT
TZOFFSETFROM:+0200
TZOFFSETTO:+0300
TZNAME:EEST
DTSTART:20140330T010000
END:DAYLIGHT
BEGIN:STANDARD
TZOFFSETFROM:+0300
TZOFFSETTO:+0200
TZNAME:EET
DTSTART:20141026T010000
END:STANDARD
END:VTIMEZONE
BEGIN:VEVENT
DTSTART;TZID="Europe/Helsinki":20141118T070000
DTEND;TZID="Europe/Helsinki":20141118T100000
DTSTAMP:20260421T053131
CREATED:20141028T024625Z
LAST-MODIFIED:20141029T143908Z
UID:8296-1416294000-1416304800@www.strawanzerin.at
SUMMARY:Folk - Clubkonzert
DESCRIPTION:Patrizia Sieweck & Angelika Hudler \nPatrizia Sieweck zieht es vor allem zur keltischen Folkmusiktradition Westeuropas\, da sie einige Jahre in Irland gelebt hat. Durch zahlreiche Reisen zu Festivals in ganz Europa\, und durch den regen Austausch mit anderen Musikern\, hat sie aber auch die amerikanische Old Time Tradition\, sowie Musik aus Nordeuropa (Schweden und Norwegen) und dem Balkan lieben gelernt. Mit ihrer warmen Stimme erzählt sie Geschichten und begleitet sich selbst mit Gitarre\, Geige oder Banjo. Zur Zeit spielt sie solo\, sowie bei Gruppen wie Crowdero und Captain Knife.\nAuf halbem Wege durch ihr klassisches Geigenstudium fand sich Angelika Hudler unerwartet in die behagliche wiener Folk-Szene gezogen – und hat diese seither nicht mehr verlassen. Sie sucht Inspiration und Austausch beim gemeinsamen Musizieren in Wien und beim Reisen zu verschiedensten Festivals im In-und Ausland. Sie ist ohnehin reisewütig – es hat sie bereits in entfernte Gegenden Europas wie den Balkan oder Skandinavien verschlagen und im Lauf der Zeit hat sie eine besondere Vorliebe für die traditionelle Musik Schwedens und Bulgariens entwickelt. \nClubbeitrag Euro 10\nBei Voranmeldung auf Facebook oder E-Mail EURO 8\nmehr: www.sandpeck.com \n
URL:https://www.strawanzerin.at/termin/folk-clubkonzert/
LOCATION:Österreich
CATEGORIES:ab 7,Deutsch,Kunst/Kultur,Musik,Wien
ATTACH;FMTTYPE=:
END:VEVENT
END:VCALENDAR