BEGIN:VCALENDAR
VERSION:2.0
PRODID:-//STRAWANZERIN - ECPv4.9.5//NONSGML v1.0//EN
CALSCALE:GREGORIAN
METHOD:PUBLISH
X-WR-CALNAME:STRAWANZERIN
X-ORIGINAL-URL:https://www.strawanzerin.at
X-WR-CALDESC:Veranstaltungen im STRAWANZERIN
BEGIN:VTIMEZONE
TZID:"Europe/Paris"
BEGIN:DAYLIGHT
TZOFFSETFROM:+0100
TZOFFSETTO:+0200
TZNAME:CEST
DTSTART:20170326T010000
END:DAYLIGHT
BEGIN:STANDARD
TZOFFSETFROM:+0200
TZOFFSETTO:+0100
TZNAME:CET
DTSTART:20171029T010000
END:STANDARD
END:VTIMEZONE
BEGIN:VEVENT
DTSTART;TZID="Europe/Paris":20170402T160000
DTEND;TZID="Europe/Paris":20170402T160000
DTSTAMP:20260422T074109
CREATED:20170227T163558Z
LAST-MODIFIED:20170301T121116Z
UID:40359-1491148800-1491148800@www.strawanzerin.at
SUMMARY:FOLKLORE-TANZ-FEST
DESCRIPTION:Live-Musik zum Mittanzen und Zuhören mit Didldumdei\, Pallawatsch\,\nWolfs Bande u.a. Eine Benefizveranstaltung zugunsten der Erhaltung des Urwaldes in Rumänien und landwirtschaftlicher Projekte in Indien. Freie Spende.\n15.\, Auf der Schmelz 6 (Universitäts-Sportzentrum) \n
URL:https://www.strawanzerin.at/termin/folklore-tanz-fest/
CATEGORIES:Deutsch,freie Spende,Tanz,Transnational,Wien
END:VEVENT
END:VCALENDAR