BEGIN:VCALENDAR
VERSION:2.0
PRODID:-//STRAWANZERIN - ECPv4.9.5//NONSGML v1.0//EN
CALSCALE:GREGORIAN
METHOD:PUBLISH
X-WR-CALNAME:STRAWANZERIN
X-ORIGINAL-URL:https://www.strawanzerin.at
X-WR-CALDESC:Veranstaltungen im STRAWANZERIN
BEGIN:VTIMEZONE
TZID:"Europe/Vienna"
BEGIN:DAYLIGHT
TZOFFSETFROM:+0100
TZOFFSETTO:+0200
TZNAME:CEST
DTSTART:20240331T010000
END:DAYLIGHT
BEGIN:STANDARD
TZOFFSETFROM:+0200
TZOFFSETTO:+0100
TZNAME:CET
DTSTART:20241027T010000
END:STANDARD
END:VTIMEZONE
BEGIN:VEVENT
DTSTART;TZID="Europe/Vienna":20241014T190000
DTEND;TZID="Europe/Vienna":20241014T210000
DTSTAMP:20260421T031751
CREATED:20240927T142739Z
LAST-MODIFIED:20240927T142739Z
UID:103829-1728932400-1728939600@www.strawanzerin.at
SUMMARY:Forum für Übersetzungskritik: Metamorphosen des Übersetzens. Zu einer Poetik des Kannibalismus
DESCRIPTION:Kannibalismus als Einverleibung und Transformation des Anderen erscheint als paradigmatisch für das Lesen und Übersetzen. Doch lässt sich das Übersetzen tatsächlich als kannibalischer Akt denken? Wie könnte ein kannibalisches Übersetzen\, eine kannibalische Übersetzung aussehen? In diesem Forum werden die Entwicklungslinien und brasilianischen Ursprünge des Kannibalismus als Metapher des Übersetzens nachgezeichnet. Anhand konkreter Gedichte und deren Übersetzungen soll diskutiert werden\, welches Potential – etwa im Bezug auf ein Neudenken des Verhältnisses von Original und Übersetzung –\, aber auch\, welche Schwierigkeiten die Trope des Kannibalismus im Hinblick auf eine Poetik des Übersetzens birgt.\nMelanie Strasser\, studierte Philosophie und Übersetzen in Wien\, mit Stationen in Portugal\, Deutschland\, USA und Brasilien. Übersetzt\, lernt\, lehrt und lektoriert.\nDas Forum für Übersetzungskritik ist eine Veranstaltungsreihe von Versatorium\, die Raum für eine Reflexion über die experimentellen Arbeitsprozesse des Übersetzens gibt und für einen Erfahrungsaustausch mit Kooperations- und Gesprächspartner:innen über ihre Übersetzungs- und Lesepraxis poetischer Texte. \n
URL:https://www.strawanzerin.at/termin/forum-fuer-uebersetzungskritik-metamorphosen-des-uebersetzens-zu-einer-poetik-des-kannibalismus/
LOCATION:Versatorium – Verein für Gedichte und Übersetzen\, Am Modenapark 8-9/6/R01\, Gassenlokal an der Ecke Grimmelshausengasse\, Am Modenapark 8-9/6/R01\, Gassenlokal an der Ecke Grimmelshausengasse\, Wien\, 1030\, Österreich
CATEGORIES:Gratis,Kunst/Kultur,Literatur,Transnational,Wien,Workshop
ORGANIZER;CN="Versatorium%20%E2%80%93%20Verein%20f%C3%BCr%20Gedichte%20und%20%C3%9Cbersetzen":MAILTO:transl@versatorium.at
END:VEVENT
END:VCALENDAR