BEGIN:VCALENDAR
VERSION:2.0
PRODID:-//STRAWANZERIN - ECPv4.9.5//NONSGML v1.0//EN
CALSCALE:GREGORIAN
METHOD:PUBLISH
X-WR-CALNAME:STRAWANZERIN
X-ORIGINAL-URL:https://www.strawanzerin.at
X-WR-CALDESC:Veranstaltungen im STRAWANZERIN
BEGIN:VTIMEZONE
TZID:"Europe/Helsinki"
BEGIN:DAYLIGHT
TZOFFSETFROM:+0200
TZOFFSETTO:+0300
TZNAME:EEST
DTSTART:20160327T010000
END:DAYLIGHT
BEGIN:STANDARD
TZOFFSETFROM:+0300
TZOFFSETTO:+0200
TZNAME:EET
DTSTART:20161030T010000
END:STANDARD
END:VTIMEZONE
BEGIN:VEVENT
DTSTART;TZID="Europe/Helsinki":20161026T130000
DTEND;TZID="Europe/Helsinki":20161026T150000
DTSTAMP:20260421T155323
CREATED:20160919T104330Z
LAST-MODIFIED:20160921T062409Z
UID:33633-1477486800-1477494000@www.strawanzerin.at
SUMMARY:Fourdummies: Safe Vienna! Save Vienna!
DESCRIPTION:Die immer wieder aufkommenden Debatten über Sicherheit und Überwachung in Politik und Medien veranlassen das KünstlerInnenkollektiv FOURDUMMIES für ihr neues Projekt das tatsächliche – subjektive – Sicherheitsgefühl der WienerInnen zu untersuchen. Als Kick-Off des Projekts begeben sich die KünstlerInnen anlässlich des Nationalfeiertags gemeinsam mit dem Publikum auf einen Streifzug durch Wien\, um zwischen Panzershow und Bundesheer nach den sichersten Orten zu suchen. Sei es nun der private Bunker\, ein Hochsitz oder der Warteraum der SVA. Die Ergebnisse der Recherche kommen im Jänner in einem Stück im brut zur Premiere. \n2013 erfanden die KünstlerInnen Waltraud Brauner\, Peter Baur und Georg Klüver-Pfandtner das fiktive Kollektiv FOURDUMMIES und dessen vermeintliche 20-jährige Zusammenarbeit. Beim Festival imagetanz 2014 im brut realisierte das Kollektiv das Projekt Image Recovery FOURDUMMIES und wurde danach eingeladen\, die dabei entstandene Retrospektive in der Fotogalerie Wien zu zeigen. Mit der Auftragsarbeit Flash Forward – Ein Fotolabor für Zukünftiges bereisten die KünstlerInnen Graz\, Leoben und Vordernberg.   \nDer Treffpunkt wird bei Anmeldung bekannt gegeben. \n
URL:https://www.strawanzerin.at/termin/fourdummies-safe-vienna-save-vienna/
LOCATION:brut im Künstlerhaus\, Karlsplatz 5\, Wien\, 1010\, Österreich
CATEGORIES:Antimilitarismus,Deutsch,Gratis,Rundgang,Wien
ATTACH;FMTTYPE=image/jpeg:https://www.strawanzerin.at/wp-content/uploads/2016/09/rsz_web_safe_save_vienna_c_fourdummies.jpg
GEO:48.200534;16.3715493
X-APPLE-STRUCTURED-LOCATION;VALUE=URI;X-ADDRESS=brut im Künstlerhaus Karlsplatz 5 Wien 1010 Österreich;X-APPLE-RADIUS=500;X-TITLE=Karlsplatz 5:geo:16.3715493,48.200534
END:VEVENT
END:VCALENDAR