BEGIN:VCALENDAR
VERSION:2.0
PRODID:-//STRAWANZERIN - ECPv4.9.5//NONSGML v1.0//EN
CALSCALE:GREGORIAN
METHOD:PUBLISH
X-WR-CALNAME:STRAWANZERIN
X-ORIGINAL-URL:https://www.strawanzerin.at
X-WR-CALDESC:Veranstaltungen im STRAWANZERIN
BEGIN:VTIMEZONE
TZID:"Europe/Helsinki"
BEGIN:DAYLIGHT
TZOFFSETFROM:+0200
TZOFFSETTO:+0300
TZNAME:EEST
DTSTART:20170326T010000
END:DAYLIGHT
BEGIN:STANDARD
TZOFFSETFROM:+0300
TZOFFSETTO:+0200
TZNAME:EET
DTSTART:20171029T010000
END:STANDARD
END:VTIMEZONE
BEGIN:VEVENT
DTSTART;TZID="Europe/Helsinki":20170121T200000
DTEND;TZID="Europe/Helsinki":20170121T230000
DTSTAMP:20260420T120021
CREATED:20170103T155640Z
LAST-MODIFIED:20170103T155640Z
UID:38444-1485028800-1485039600@www.strawanzerin.at
SUMMARY:František & delta concept Δ
DESCRIPTION:František\n(Instrumental Rock\, Wien) \nŠtefan Vouk – Gitarre\nUdo Kuleff – Gitarre\nPeter Kuttner – Bass\nSeverin Grussmann – Schlagzeug \nBeeinflusst von Progressive-\, Post- und Punkrock spielen František einen Film ohne Bild voll Spannung\, Energie und raschen Szenewechseln. Im Herbst 2015 präsentierte das Quartett seine Debut-CD. \ndelta concept Δ\n(Acid Jazz\, Klagenfurt) \nLan Sticker – drums\nLukas Lackner – keys\nYannic Steuerer – guitar \nAlles begann im Pfarrhof in Kärnten/Koroška mit den sakralen Intervallen – den Quinten. delta concept steht nach vier Jahren\, weniger in Verbindung mit der heiligen Dreifaltigkeit\, als vielmehr mit der Idee drei Elemente zu verbinden – Puls\, Melodie und Emotion.\nDrei Qualitäten in einem Konzept. Wie ein Fluss. Denn der braucht drei Komponenten um zu fließen: Das Wasser\, das Land und den Strom. Wie in der Musik: der Strom ist der Puls\, das Wasser die Emotion und das Land die Melodie.\nNun fragst du dich vielleicht: delta ist doch der vierte Buchstabe im griechischen Alphabet? Nun ja\, das ist richtig. Da jedoch das Piano in der linken Hand den Bass führt\, ist es quasi 4in3 – so kann alles fließen. \n
URL:https://www.strawanzerin.at/termin/frantisek-delta-concept-%ce%b4/
LOCATION:Tunnel Vienna Live\, Florianigasse 39\, 1080\, Wien\, 1080\, Österreich
CATEGORIES:Englisch,freie Spende,Kunst/Kultur,Musik,Wien
ATTACH;FMTTYPE=image/jpeg:https://www.strawanzerin.at/wp-content/uploads/2017/01/15698128_1915475565163879_1571365731603825357_n.jpg
GEO:48.2118651;16.3481975
X-APPLE-STRUCTURED-LOCATION;VALUE=URI;X-ADDRESS=Tunnel Vienna Live Florianigasse 39 1080 Wien 1080 Österreich;X-APPLE-RADIUS=500;X-TITLE=Florianigasse 39:geo:16.3481975,48.2118651
END:VEVENT
END:VCALENDAR