BEGIN:VCALENDAR
VERSION:2.0
PRODID:-//STRAWANZERIN - ECPv4.9.5//NONSGML v1.0//EN
CALSCALE:GREGORIAN
METHOD:PUBLISH
X-WR-CALNAME:STRAWANZERIN
X-ORIGINAL-URL:https://www.strawanzerin.at
X-WR-CALDESC:Veranstaltungen im STRAWANZERIN
BEGIN:VTIMEZONE
TZID:"Europe/Vienna"
BEGIN:DAYLIGHT
TZOFFSETFROM:+0100
TZOFFSETTO:+0200
TZNAME:CEST
DTSTART:20190331T010000
END:DAYLIGHT
BEGIN:STANDARD
TZOFFSETFROM:+0200
TZOFFSETTO:+0100
TZNAME:CET
DTSTART:20191027T010000
END:STANDARD
END:VTIMEZONE
BEGIN:VEVENT
DTSTART;TZID="Europe/Vienna":20190109T200000
DTEND;TZID="Europe/Vienna":20190109T220000
DTSTAMP:20260422T120238
CREATED:20181212T143900Z
LAST-MODIFIED:20181212T144157Z
UID:61059-1547064000-1547071200@www.strawanzerin.at
SUMMARY:Franz Schubert: Die Winterreise
DESCRIPTION:In einer stimmungsvollen\, szenischen Version dieses Lieder-Zyklus geht es mit Pianistin Lisa Exenberger und Tenor Stefan Fleischhacker auf eine Reise durch Eis und Schnee\, vorbei an abweisenden Behausungen\, sprechenden Lindenbäumen und tiefen Felsengründen. Ein expressives Stationentheater\, das durch Franz Schuberts unsterbliche Komposition und die eindrucksvollen Verse von Wilhelm Müller das Publikum in seinen Bann zieht. \nInfo: Tel. 0680 335 47 32 \nFoto: L.E.O. \n
URL:https://www.strawanzerin.at/termin/franz-schubert-die-winterreise/
LOCATION:Letztes Erfreuliches Operntheater L.E.O.\, Ungargasse 18\, Wien\, Wien\, 1030\, Österreich
CATEGORIES:ab 7,Kunst/Kultur,Musik,Wien
ATTACH;FMTTYPE=image/jpeg:https://www.strawanzerin.at/wp-content/uploads/2018/12/Winterreise_CL.E.O..jpg
GEO:48.2027225;16.3869591
X-APPLE-STRUCTURED-LOCATION;VALUE=URI;X-ADDRESS=Letztes Erfreuliches Operntheater L.E.O. Ungargasse 18 Wien Wien 1030 Österreich;X-APPLE-RADIUS=500;X-TITLE=Ungargasse 18:geo:16.3869591,48.2027225
END:VEVENT
END:VCALENDAR