BEGIN:VCALENDAR
VERSION:2.0
PRODID:-//STRAWANZERIN - ECPv4.9.5//NONSGML v1.0//EN
CALSCALE:GREGORIAN
METHOD:PUBLISH
X-WR-CALNAME:STRAWANZERIN
X-ORIGINAL-URL:https://www.strawanzerin.at
X-WR-CALDESC:Veranstaltungen im STRAWANZERIN
BEGIN:VTIMEZONE
TZID:"Europe/Paris"
BEGIN:DAYLIGHT
TZOFFSETFROM:+0100
TZOFFSETTO:+0200
TZNAME:CEST
DTSTART:20150329T010000
END:DAYLIGHT
BEGIN:STANDARD
TZOFFSETFROM:+0200
TZOFFSETTO:+0100
TZNAME:CET
DTSTART:20151025T010000
END:STANDARD
END:VTIMEZONE
BEGIN:VEVENT
DTSTART;TZID="Europe/Paris":20150922T200000
DTEND;TZID="Europe/Paris":20150922T220000
DTSTAMP:20260420T083324
CREATED:20150904T094520Z
LAST-MODIFIED:20150904T094520Z
UID:19568-1442952000-1442959200@www.strawanzerin.at
SUMMARY:frau franzi - Dienstag ist Putztag
DESCRIPTION:jedermann – frau franzi verfranzt Hofmannsthals frühneuhochdeutsche Knittelverse\, dass es nur so staubt beim Sterben des reichen Mannes. \nDramaturgie & Spiel: Marika Reichhold | Regie: Christian Suchy \nSeitdem die resolute Putzfrau frau franzi immer wieder dienstags im KosmosTheater den Besen wirbelt\, ist es so sauber\, dass man vom Boden essen könnte. Es liegt nichts herum bis auf Shakespeares Leichen. Denn frau franzi liebt nicht nur ihre Arbeit: putzen\, wischen und kochen – sondern auch das Theater\, besonders die Tragödien\, die vom Schäggsbia…\nfrau franzi: „nix is so schee wia a tote leich im theata.“ \nBei frau franzi erfahren Sie Vorder-\, Hinter-\, Ab- und Untergründe\, aktuelle Gerüchte und Lebensweisheiten\, schließlich bieten die großen Dramen der Weltliteratur einiges an Klatsch und Tratsch. \n
URL:https://www.strawanzerin.at/termin/frau-franzi-dienstag-ist-putztag/
LOCATION:KosmosTheater\, Siebensterngasse 42-44\, Wien\, Wien\, 1070\, Österreich
CATEGORIES:Deutsch,Eintrittspreis,Kunst/Kultur,Theater/Kabarett,Wien
ATTACH;FMTTYPE=image/jpeg:https://www.strawanzerin.at/wp-content/uploads/2015/09/fraufranzi_cHansBuerstmayr_600.jpg
ORGANIZER;CN="KosmosTheater":MAILTO:karten@kosmostheater.at
GEO:48.2023501;16.3513241
X-APPLE-STRUCTURED-LOCATION;VALUE=URI;X-ADDRESS=KosmosTheater Siebensterngasse 42-44 Wien Wien 1070 Österreich;X-APPLE-RADIUS=500;X-TITLE=Siebensterngasse 42-44:geo:16.3513241,48.2023501
END:VEVENT
END:VCALENDAR