BEGIN:VCALENDAR
VERSION:2.0
PRODID:-//STRAWANZERIN - ECPv4.9.5//NONSGML v1.0//EN
CALSCALE:GREGORIAN
METHOD:PUBLISH
X-WR-CALNAME:STRAWANZERIN
X-ORIGINAL-URL:https://www.strawanzerin.at
X-WR-CALDESC:Veranstaltungen im STRAWANZERIN
BEGIN:VTIMEZONE
TZID:"Europe/Helsinki"
BEGIN:DAYLIGHT
TZOFFSETFROM:+0200
TZOFFSETTO:+0300
TZNAME:EEST
DTSTART:20160327T010000
END:DAYLIGHT
BEGIN:STANDARD
TZOFFSETFROM:+0300
TZOFFSETTO:+0200
TZNAME:EET
DTSTART:20161030T010000
END:STANDARD
END:VTIMEZONE
BEGIN:VEVENT
DTSTART;TZID="Europe/Helsinki":20160301T200000
DTEND;TZID="Europe/Helsinki":20160301T213000
DTSTAMP:20260425T140259
CREATED:20160205T120106Z
LAST-MODIFIED:20160205T120106Z
UID:24148-1456862400-1456867800@www.strawanzerin.at
SUMMARY:frau franzi - romeo & julia
DESCRIPTION:Dienstag ist Putztag \nromeo und julia – frau franzi macht auf die fatalsten Nebensächlichkeiten\nder größten Liebesgeschichte aller Zeiten aufmerksam \nDramaturgie & Spiel: Marika Reichhold | Regie: Christian Suchy \nLachtränengarantie!\nWie aus der Asche des Phönix erschuf Marika Reichhold die Personnage frau franzi\, als sie 2007 überraschend das veraltete Bergbaumuseum in Grünbach am Schneeberg erbte. Seitdem wirbelt die schäggsbia-narrische Putzfrau bei ihren szenisch-kabarettistischen Museumsführungen wie auch bei ihren dienstäglichen Putztagen im KosmosTheater den Besen und arbeitet sich mit Fetzen\, Kübel\, Mopp und Gemüse bewaffnet quer durch den schäggsbiaschen Gemüsegarten. \n
URL:https://www.strawanzerin.at/termin/frau-franzi-romeo-julia/
LOCATION:KosmosTheater\, Siebensterngasse 42-44\, Wien\, Wien\, 1070\, Österreich
CATEGORIES:Deutsch,Eintrittspreis,Kunst/Kultur,Theater/Kabarett,Wien
ATTACH;FMTTYPE=image/jpeg:https://www.strawanzerin.at/wp-content/uploads/2016/02/frauFranzi_QF_600px.jpg
ORGANIZER;CN="KosmosTheater":MAILTO:karten@kosmostheater.at
GEO:48.2023501;16.3513241
X-APPLE-STRUCTURED-LOCATION;VALUE=URI;X-ADDRESS=KosmosTheater Siebensterngasse 42-44 Wien Wien 1070 Österreich;X-APPLE-RADIUS=500;X-TITLE=Siebensterngasse 42-44:geo:16.3513241,48.2023501
END:VEVENT
END:VCALENDAR