BEGIN:VCALENDAR
VERSION:2.0
PRODID:-//STRAWANZERIN - ECPv4.9.5//NONSGML v1.0//EN
CALSCALE:GREGORIAN
METHOD:PUBLISH
X-WR-CALNAME:STRAWANZERIN
X-ORIGINAL-URL:https://www.strawanzerin.at
X-WR-CALDESC:Veranstaltungen im STRAWANZERIN
BEGIN:VTIMEZONE
TZID:"Europe/Paris"
BEGIN:DAYLIGHT
TZOFFSETFROM:+0100
TZOFFSETTO:+0200
TZNAME:CEST
DTSTART:20150329T010000
END:DAYLIGHT
BEGIN:STANDARD
TZOFFSETFROM:+0200
TZOFFSETTO:+0100
TZNAME:CET
DTSTART:20151025T010000
END:STANDARD
END:VTIMEZONE
BEGIN:VEVENT
DTSTART;TZID="Europe/Paris":20150912T110000
DTEND;TZID="Europe/Paris":20150912T133000
DTSTAMP:20260419T134505
CREATED:20150908T131748Z
LAST-MODIFIED:20150915T101155Z
UID:19653-1442055600-1442064600@www.strawanzerin.at
SUMMARY:FrauenLeben in Rudolfsheim-Fünfhaus
DESCRIPTION:Bitte um Anmeldung per mail an kontakt@kv15.wien\nBei diesem Spaziergang werden wir auch öffentliche Verkehrsmittel benutzen. \n„Geschichte ist ein Prozess\, eine Rekonstruktion der Vergangenheit aus heutiger Sicht. Der feministische Blick ist dabei wesentlich. Denn ohne eigene Geschichte ist uns Frauen die Möglichkeit einer kollektiven Identität und eines historischen Selbstbewusstseins abgeschnitten\, denn jede Frau ändert sich\, wenn sie erkennt\, dass sie eine Geschichte hat.“\nGerda Lerner\, Historikerin und Pionierin der Frauengeschichtsforschung \nFrauen haben Geschichte nicht erlitten\, sondern gestaltet. Aber kaum etwas erinnert an sie.\nVon den über 6200 Verkehrsflächen in Wien  sind etwa 4.100 nach Personen benannt – nur 329 davon erinnern an Frauen.\nBei diesem Spaziergang geht es um bemerkenswerte Frauen\, die im heutigen 15. Bezirk gelebt und gearbeitet haben. Frauen mit unterschiedlichen Lebensbedingungen und Lebensentwürfen: ob Adelige\, Bürgerliche oder Proletarierin\, Sozialdemokratin oder Christlichsoziale\, Schauspielerin oder Politikerin. Dabei werden wir uns auch mit den gesellschaftlichen und gesetzlichen Rahmenbedingungen beschäftigen und über Projekte von und für Frauen im Bezirk reden. \n
URL:https://www.strawanzerin.at/termin/frauenleben-in-rudolfsheim-fuenfhaus/
LOCATION:Österreich
CATEGORIES:Deutsch,Feminismus,Gratis,Rundgang,Wien
ATTACH;FMTTYPE=image/jpeg:https://www.strawanzerin.at/wp-content/uploads/2015/09/2015_05_31_Fürhung-300x225.jpg
ORGANIZER;CN="KV15.WIEN%20%7C%20Kulturverein%20Rudolfsheim":MAILTO:kontakt@kv15.wien
END:VEVENT
END:VCALENDAR