BEGIN:VCALENDAR
VERSION:2.0
PRODID:-//STRAWANZERIN - ECPv4.9.5//NONSGML v1.0//EN
CALSCALE:GREGORIAN
METHOD:PUBLISH
X-WR-CALNAME:STRAWANZERIN
X-ORIGINAL-URL:https://www.strawanzerin.at
X-WR-CALDESC:Veranstaltungen im STRAWANZERIN
BEGIN:VTIMEZONE
TZID:"Europe/Vienna"
BEGIN:DAYLIGHT
TZOFFSETFROM:+0100
TZOFFSETTO:+0200
TZNAME:CEST
DTSTART:20170326T010000
END:DAYLIGHT
BEGIN:STANDARD
TZOFFSETFROM:+0200
TZOFFSETTO:+0100
TZNAME:CET
DTSTART:20171029T010000
END:STANDARD
END:VTIMEZONE
BEGIN:VEVENT
DTSTART;TZID="Europe/Vienna":20170314T170000
DTEND;TZID="Europe/Vienna":20170314T200000
DTSTAMP:20260420T131548
CREATED:20170307T115939Z
LAST-MODIFIED:20170308T112801Z
UID:40899-1489510800-1489521600@www.strawanzerin.at
SUMMARY:Frauenschachabend im Café Schopenhauer
DESCRIPTION:Der Frauenschachclub „Frau Schach“ veranstaltet einmal im Monat einen Frauenschachabend im Café Schopenhauer im 18. Bezirk. Es wird in gemütlicher und rein weiblicher Atmosphäre Kaffeehausschach gespielt – von der Anfängerin bis zur routinierten Turnierspielerin ist für alle etwas dabei. „Neue“ Schachfrauen sind jederzeit willkommen! Kein Mitgliedsbeitrag und keine Teilnahmegebühr. \n
URL:https://www.strawanzerin.at/termin/frauenschachabend-im-cafe-schopenhauer/
CATEGORIES:Feminismus,Gratis,Kategorie,Region/Bundesland,Sonstiges,Treffen,Wien
ATTACH;FMTTYPE=image/jpeg:https://www.strawanzerin.at/wp-content/uploads/2017/03/Schachfrauen-im-Cafe-Schopenhauer_klein.jpg
END:VEVENT
END:VCALENDAR