BEGIN:VCALENDAR
VERSION:2.0
PRODID:-//STRAWANZERIN - ECPv4.9.5//NONSGML v1.0//EN
CALSCALE:GREGORIAN
METHOD:PUBLISH
X-WR-CALNAME:STRAWANZERIN
X-ORIGINAL-URL:https://www.strawanzerin.at
X-WR-CALDESC:Veranstaltungen im STRAWANZERIN
BEGIN:VTIMEZONE
TZID:"Europe/Vienna"
BEGIN:DAYLIGHT
TZOFFSETFROM:+0100
TZOFFSETTO:+0200
TZNAME:CEST
DTSTART:20170326T010000
END:DAYLIGHT
BEGIN:STANDARD
TZOFFSETFROM:+0200
TZOFFSETTO:+0100
TZNAME:CET
DTSTART:20171029T010000
END:STANDARD
END:VTIMEZONE
BEGIN:VEVENT
DTSTART;TZID="Europe/Vienna":20170519T180000
DTEND;TZID="Europe/Vienna":20170519T200000
DTSTAMP:20260420T161818
CREATED:20170502T125209Z
LAST-MODIFIED:20170503T161832Z
UID:43667-1495216800-1495224000@www.strawanzerin.at
SUMMARY:Frauenwelten - Frauenstimmen: Sich Gehör verschaffen
DESCRIPTION:5 Frauen erzählen von ihren Erfolgen \nElizabeth Cabrera und Rosario Noj Xoyon (Bildungsprojekt MIRIAM-Guatemala)\, Téclaire Ngo-Tam (Südwind-Mitarbeiterin aus Kamerun)\, Ishraga M. Hamid (in Wien lebende Autorin aus dem Sudan) und Petra Pint (Projektkoordinatorin vom Radioprojekt „Globale Dialoge“) sprechen über ihre Arbeit und wie sie dadurch Frauen unterstützen. \nDie fünf Aktivistinnen erzählen von ihren Lebensrealitäten und sprechen darüber\, wie Frauen eine Stimme gegeben werden kann. Diese kann dazu genutzt werden\, um auf Ungerechtigkeiten aufmerksam zu machen und gegen Ausgrenzung anzukämpfen. \nEine Veranstaltung vom Weltgebetstag der Frauen Österreich (WGT) und der Frauensolidarität. \nFoto: © Rasande Tyskar \n
URL:https://www.strawanzerin.at/termin/frauenwelten-frauenstimmen-sich-gehoer-verschaffen/
LOCATION:Otto Mauer Zentrum\, Währinger Str. 2-4\, Wien\, Wien\, 1090\, Österreich
CATEGORIES:Antirassimus,Bildung,Bürger_innenrechte,Deutsch,Englisch,Feminismus,Gratis,Soziale Kämpfe,Spanisch,Treffen,Vortrag/Symposium,Wien
ATTACH;FMTTYPE=image/jpeg:https://www.strawanzerin.at/wp-content/uploads/2017/05/Lautsprecherchor.jpg
ORGANIZER;CN="Frauen%2Asolidarit%C3%A4t":MAILTO:office@frauensolidaritaet.org
GEO:48.2149624;16.3617342
X-APPLE-STRUCTURED-LOCATION;VALUE=URI;X-ADDRESS=Otto Mauer Zentrum Währinger Str. 2-4 Wien Wien 1090 Österreich;X-APPLE-RADIUS=500;X-TITLE=Währinger Str. 2-4:geo:16.3617342,48.2149624
END:VEVENT
END:VCALENDAR