BEGIN:VCALENDAR
VERSION:2.0
PRODID:-//STRAWANZERIN - ECPv4.9.5//NONSGML v1.0//EN
CALSCALE:GREGORIAN
METHOD:PUBLISH
X-WR-CALNAME:STRAWANZERIN
X-ORIGINAL-URL:https://www.strawanzerin.at
X-WR-CALDESC:Veranstaltungen im STRAWANZERIN
BEGIN:VTIMEZONE
TZID:"Europe/Vienna"
BEGIN:DAYLIGHT
TZOFFSETFROM:+0100
TZOFFSETTO:+0200
TZNAME:CEST
DTSTART:20210328T010000
END:DAYLIGHT
BEGIN:STANDARD
TZOFFSETFROM:+0200
TZOFFSETTO:+0100
TZNAME:CET
DTSTART:20211031T010000
END:STANDARD
END:VTIMEZONE
BEGIN:VEVENT
DTSTART;TZID="Europe/Vienna":20211002T160000
DTEND;TZID="Europe/Vienna":20211002T230000
DTSTAMP:20260421T191556
CREATED:20210922T170638Z
LAST-MODIFIED:20210927T083846Z
UID:80627-1633190400-1633215600@www.strawanzerin.at
SUMMARY:Frischluft - Ein Picknick unter der Brücke #2
DESCRIPTION:Eine musikalisch-literarische Veranstaltungsreihe von und mit Tini Trampler & Playbackdolls. GästInnen: TROI\, Bergamasco Pavlic Trio\, Eva Schörkhuber  \n
URL:https://www.strawanzerin.at/termin/frischluft-ein-picknick-unter-der-bruecke-2-2/
LOCATION:Friedel Gastro\, Donaulände 2\, Greifenstein\, Niederösterreich\, 3422\, Österreich
CATEGORIES:freie Spende,Literatur,Musik
ATTACH;FMTTYPE=image/jpeg:https://www.strawanzerin.at/wp-content/uploads/2021/09/TiniStephan-byTeresaMarenzi-0001-scaled.jpg
ORGANIZER;CN="Tini%20Trampler%20%26amp%3B%20Playbackdolls":MAILTO:playbackdolls@gmail.com
END:VEVENT
END:VCALENDAR