BEGIN:VCALENDAR
VERSION:2.0
PRODID:-//STRAWANZERIN - ECPv4.9.5//NONSGML v1.0//EN
CALSCALE:GREGORIAN
METHOD:PUBLISH
X-WR-CALNAME:STRAWANZERIN
X-ORIGINAL-URL:https://www.strawanzerin.at
X-WR-CALDESC:Veranstaltungen im STRAWANZERIN
BEGIN:VTIMEZONE
TZID:"Europe/Vienna"
BEGIN:DAYLIGHT
TZOFFSETFROM:+0100
TZOFFSETTO:+0200
TZNAME:CEST
DTSTART:20230326T010000
END:DAYLIGHT
BEGIN:STANDARD
TZOFFSETFROM:+0200
TZOFFSETTO:+0100
TZNAME:CET
DTSTART:20231029T010000
END:STANDARD
END:VTIMEZONE
BEGIN:VEVENT
DTSTART;TZID="Europe/Vienna":20230315T193000
DTEND;TZID="Europe/Vienna":20230315T210000
DTSTAMP:20260422T003918
CREATED:20230125T113429Z
LAST-MODIFIED:20230125T113429Z
UID:88645-1678908600-1678914000@www.strawanzerin.at
SUMMARY:Früchte des Zorns
DESCRIPTION:Schauspiel in drei Akten nach dem Roman von John Steinbeck \n– Für die Bühne adaptiert von Frank Galati \nInszenierung: Harald Posch\nBühne & Kostüm: Daniel Sommergruber\nDramaturgie: Hannah Lioba Egenolf\nRegieassistenz: Alina Hainig\nDramaturgiehospitanz & Recherche: Hannah Grobauer\nBühnen & Kostümassistenz: Silvia Aguilar\nMit: Barča Baxant\, Oana Solomon\, Bagher Ahmadi\, Ayo Aloba\, Nikita Dendl\, Martin Hemmer\, Sebastian Wendelin \n1938: Depression\, Monokultur und Missernten in den Vereinigten Staaten. Eine große Dürre hat viele Lebensgrundlagen zerstört. Pachtzinsen können nicht mehr bezahlt werden\, die Grundbesitzer vertreiben sie mit Baggern\, und Familie Joad entschließt sich zu einer Reise ins Ungewisse: Tausende Kilometer reisen sie mit wenig mehr als sie am Leib tragen\, einmal quer durch die Wüste und über den Kontinent – einer besseren Zukunft entgegen? In Kalifornien\, so hat man gehört\, gebe es Arbeit\, Wohlstand und die Hoffnung auf ein glücklicheres Leben. Doch mit jedem Schritt in Richtung Westen wachsen Entbehrung\, Ausbeutung und Anfeindung. Die Familie bricht auseinander und verliert sich in einer enttäuschten Schicksalsgemeinschaft von Einwanderern … \nUm die Auffanglager authentisch beschreiben zu können\, begleitete John Steinbeck einen solchen Treck selbst gen Westen. Die Reaktionen auf den Roman ließen nicht lange auf sich warten: Von Politikern und Bischöfen verdammt\, wurde Steinbeck als Volksverhetzer und Klassenkämpfer verurteilt – und als Stimme der Unterdrückten gefeiert\, auch weil er vor allem immer wieder die solidarische Selbstorganisation und -ermächtigung der Vertriebenen und Ausgebeuteten gegen das Diktat des Kapitals ins Spiel brachte. \n1940 wurde „Früchte des Zorns“ mit dem Pulitzer-Preis ausgezeichnet\, 1962 erhielt Steinbeck den Literaturnobelpreis. \nAufführungsdauer: ca. 90 Minuten\, keine Pause \n„[…] famose Figurenskizzen. […] Das Leben unter den Bedingungen globaler Ausbeutung ist eine einzige Rutschbahn. Auch um daran wirkungsvoll erinnert zu werden\, bedarf es widersetzlicher Mittelbühnen wie des Werk X.“ – Ronald Pohl\, DerStandard \n
URL:https://www.strawanzerin.at/termin/fruechte-des-zorns-6/2023-03-15/
LOCATION:WERK X\, Oswaldgasse 35A\, Wien\, Wien\, 1120\, Österreich
ATTACH;FMTTYPE=image/jpeg:https://www.strawanzerin.at/wp-content/uploads/2023/01/Fruechte-des-Zorns-1294582-Alex-Gotter-1.jpg
ORGANIZER;CN="WERK%20X":MAILTO:buero@werk-x.at
GEO:48.1662859;16.3245824
X-APPLE-STRUCTURED-LOCATION;VALUE=URI;X-ADDRESS=WERK X Oswaldgasse 35A Wien Wien 1120 Österreich;X-APPLE-RADIUS=500;X-TITLE=Oswaldgasse 35A:geo:16.3245824,48.1662859
END:VEVENT
END:VCALENDAR