BEGIN:VCALENDAR
VERSION:2.0
PRODID:-//STRAWANZERIN - ECPv4.9.5//NONSGML v1.0//EN
CALSCALE:GREGORIAN
METHOD:PUBLISH
X-WR-CALNAME:STRAWANZERIN
X-ORIGINAL-URL:https://www.strawanzerin.at
X-WR-CALDESC:Veranstaltungen im STRAWANZERIN
BEGIN:VTIMEZONE
TZID:"Europe/Vienna"
BEGIN:DAYLIGHT
TZOFFSETFROM:+0100
TZOFFSETTO:+0200
TZNAME:CEST
DTSTART:20170326T010000
END:DAYLIGHT
BEGIN:STANDARD
TZOFFSETFROM:+0200
TZOFFSETTO:+0100
TZNAME:CET
DTSTART:20171029T010000
END:STANDARD
END:VTIMEZONE
BEGIN:VEVENT
DTSTART;TZID="Europe/Vienna":20170520T201500
DTEND;TZID="Europe/Vienna":20170520T221500
DTSTAMP:20260420T211113
CREATED:20170428T094500Z
LAST-MODIFIED:20170428T094500Z
UID:43264-1495311300-1495318500@www.strawanzerin.at
SUMMARY:»Frühere Verhältnisse« zum Jubiläum
DESCRIPTION:Um ein Theater erfolgreich zu führen\, braucht es neben Ausdauer\, Begeisterung und Know How vor allem eine gesunde Portion Humor. Den beweist die Komödie am Kai am 27. Mai 2017 seit mittlerweile 35 Jahren. Und so geht es auch weiter\, wenn von 20. Mai bis 2. September Theaterleiterin Sissy Boran\, Peter Kuderna\, Dagmar Truxa und Rudolf Pfister in Nestroys berühmter Posse auftreten. Es geht um zwei Männer\, zwei Frauen und den Gegensatz zwischen Sein und Schein. Jeder der Charaktere will seine Vergangenheit tunlichst vor dem Anderen verbergen. Ein Beziehungskarussell voller Heimlichkeiten und Schwindeleien beginnt sich zu drehen\, gepaart mit dem unvergleichlichen Sprachwitz des Autors. \nZeit:\n20. Mai bis 17. Juni und 20. Juli bis 2. September 2017\, DI bis SA 20.15 Uhr \nBild: Sissy Boran\, Peter Kuderna\, Dagmar Truxa und Rudolf Pfister (v.l.n.r.)\, Foto/© Komödie am Kai\, Wien \n
URL:https://www.strawanzerin.at/termin/fruehere-verhaeltnisse-zum-jubilaeum/2017-05-20/
LOCATION:Komödie am Kai\, Franz-Josefs-Kai 29\, Wien\, Wien\, 1010\, Österreich
CATEGORIES:ab 7,Deutsch,Theater/Kabarett,Wien
ATTACH;FMTTYPE=image/jpeg:https://www.strawanzerin.at/wp-content/uploads/2017/04/218presse.jpg
GEO:48.2121522;16.3749182
X-APPLE-STRUCTURED-LOCATION;VALUE=URI;X-ADDRESS=Komödie am Kai Franz-Josefs-Kai 29 Wien Wien 1010 Österreich;X-APPLE-RADIUS=500;X-TITLE=Franz-Josefs-Kai 29:geo:16.3749182,48.2121522
END:VEVENT
END:VCALENDAR