BEGIN:VCALENDAR
VERSION:2.0
PRODID:-//STRAWANZERIN - ECPv4.9.5//NONSGML v1.0//EN
CALSCALE:GREGORIAN
METHOD:PUBLISH
X-WR-CALNAME:STRAWANZERIN
X-ORIGINAL-URL:https://www.strawanzerin.at
X-WR-CALDESC:Veranstaltungen im STRAWANZERIN
BEGIN:VTIMEZONE
TZID:"Europe/Paris"
BEGIN:DAYLIGHT
TZOFFSETFROM:+0100
TZOFFSETTO:+0200
TZNAME:CEST
DTSTART:20150329T010000
END:DAYLIGHT
BEGIN:STANDARD
TZOFFSETFROM:+0200
TZOFFSETTO:+0100
TZNAME:CET
DTSTART:20151025T010000
END:STANDARD
END:VTIMEZONE
BEGIN:VEVENT
DTSTART;TZID="Europe/Paris":20150515T110000
DTEND;TZID="Europe/Paris":20150515T170000
DTSTAMP:20260421T155644
CREATED:20150507T144208Z
LAST-MODIFIED:20150510T172946Z
UID:14448-1431687600-1431709200@www.strawanzerin.at
SUMMARY:FRÜHSTÜCK MIT CAMUS im Rahmen der Kritischen Literaturtage 2015
DESCRIPTION:Brunch und Literatur – „Weder Opfer noch Henker!“ – Buchvorstellung und Gespräch zu Albert Camus: Libertäre und Résistance-Schriften mit Herausgeber und Übersetzer Lou Marin. \nInnerhalb von zwei Jahren sind drei Bände zu Übersetzungen des journalistischen Werks von Albert Camus erschienen: Lou Marin (Hg.): Albert Camus –Libertäre Schriften (1948-1960)\, Laika\, Hamburg 2013 Jacqueline Lévi-Valensi (Hg.): Albert Camus – Journalist in der Résistance (1944-1947)\, Bde. I und II (übersetzt von Lou Marin)\, Laika\, Hamburg 2014 Die drei Bände dokumentieren den intellektuellen und praktischen Werdegang von Camus zunächst innerhalb der französischen Résistance in der Untergrundzeitung\, nach der Befreiung von Paris im August 1944 in der Tageszeitung „Combat“\, dann\, nach dem Scheitern des Programms der Résistance unmittelbar nach der Befreiung\,  \nCamus’ Hinwendung zur und seinen Einfluss auf die libertäre Bewegung. Camus schrieb von 1948-1960 für alle Strömungen des französischsprachigen Anarchismus\, beteiligte sich an Diskussionen\, unterstützte Kampagnen und knüpfte dauerhafte Freundschaften mit maßgeblichen AnarchistInnen der Nachkriegszeit.  \nIn der Buchvorstellung wird zunächst der Gesamtzusammenhang der Résistance- und libertären Schriften dargestellt und sich dann auf die Kontakte und Diskussionen Camus’ mit AnarchosyndikalistInnen konzentriert.\nFreier Eintritt \n
URL:https://www.strawanzerin.at/termin/fruehstueck-mit-camus-im-rahmen-der-kritischen-literaturtage-2015/
LOCATION:Avalon.Kutur\, Pfeilgasse 27\, Wien\, Wien\, 1080\, Österreich
CATEGORIES:Deutsch,Essen/Vokü,Gratis,Kunst/Kultur,Wien
ATTACH;FMTTYPE=image/jpeg:https://www.strawanzerin.at/wp-content/uploads/2015/05/literaturfrühstück.jpg
ORGANIZER;CN="Avalon.Kultur":MAILTO:office@avalonweb.at
GEO:48.2089484;16.3434956
X-APPLE-STRUCTURED-LOCATION;VALUE=URI;X-ADDRESS=Avalon.Kutur Pfeilgasse 27 Wien Wien 1080 Österreich;X-APPLE-RADIUS=500;X-TITLE=Pfeilgasse 27:geo:16.3434956,48.2089484
END:VEVENT
END:VCALENDAR