BEGIN:VCALENDAR
VERSION:2.0
PRODID:-//STRAWANZERIN - ECPv4.9.5//NONSGML v1.0//EN
CALSCALE:GREGORIAN
METHOD:PUBLISH
X-WR-CALNAME:STRAWANZERIN
X-ORIGINAL-URL:https://www.strawanzerin.at
X-WR-CALDESC:Veranstaltungen im STRAWANZERIN
BEGIN:VTIMEZONE
TZID:"Europe/Vienna"
BEGIN:DAYLIGHT
TZOFFSETFROM:+0100
TZOFFSETTO:+0200
TZNAME:CEST
DTSTART:20240331T010000
END:DAYLIGHT
BEGIN:STANDARD
TZOFFSETFROM:+0200
TZOFFSETTO:+0100
TZNAME:CET
DTSTART:20241027T010000
END:STANDARD
END:VTIMEZONE
BEGIN:VEVENT
DTSTART;TZID="Europe/Vienna":20240527T200000
DTEND;TZID="Europe/Vienna":20240606T210000
DTSTAMP:20260421T042237
CREATED:20240528T123256Z
LAST-MODIFIED:20240528T123256Z
UID:99594-1716840000-1717707600@www.strawanzerin.at
SUMMARY:FÜR:SORGE
DESCRIPTION:Der Bereich der 24-Stunden-Betreuung ist ein ungeregelter Arbeitsmarkt\, der zulässt\, dass sich Care-Migrant*innen\, meistens aus Osteuropa und ohne Deutschkenntnisse\, auf eine horrend unterbezahlte Scheinselbstständigkeit einlassen müssen. Die Pflege selbst entwickelt sich immer mehr zur Notfallpatientin. Und da der Sozialstaat zu dessen Kernaufgaben die Versorgung der Menschen eigentlich zählt\, tatenlos zusieht\, wird die Misere auf dem Rücken der Beteiligten ausgetragen.\nDer mehrsprachige Theaterabend von baldanders theaterkollektiv nimmt die gesellschaftlichen\, institutionellen und rechtlichen Rahmenbedingungen der professionellen und informellen Betreuungsarbeit in den Blick und untersucht ihre Auswirkungen auf die einzelnen Schicksale aus Sicht von rumänischen Betreuer*innen\, Pflegepatient*innen und jenen\, die mit der Altersfürsorge ihrer Eltern konfrontiert werden. \nKonzept & Regie: Constance Cauers & Alexandru Weinberger-Bara | Text: Thomas Perle | Ausstattung: Lisa Horvath | Musik: Bernhard Fleischmann | Produktionsleitung: Kim Groneweg | Ausstattungsassistenz & Choreographie: Rita Landgrebe | Regieassistenz: Hoang Nu Mia Nguyen \nMit: Suse Lichtenberger & Julia Schranz sowie Ana-Lucia Bozovan\, Ileana Indru\, Helma Steinböck (Expert*innen aus dem Bereich der Fürsorge-\, Betreuungs- und Pflegearbeit) \n
URL:https://www.strawanzerin.at/termin/fuersorge/
LOCATION:Kosmos Theater Wien\, Siebensterngasse 42-44\, Wien\, Wien\, 1070\, Österreich
CATEGORIES:Eintrittspreis,Feminismus,Mehrsprachig,Theater/Kabarett
ATTACH;FMTTYPE=image/jpeg:https://www.strawanzerin.at/wp-content/uploads/2024/05/FUeRSORGE_QF_cSerban-Florentin-Roman_-scaled.jpg
ORGANIZER;CN="Kosmos%20Theater%20Wien":MAILTO:office@kosmostheater.at
GEO:48.2023536;16.3513259
X-APPLE-STRUCTURED-LOCATION;VALUE=URI;X-ADDRESS=Kosmos Theater Wien Siebensterngasse 42-44 Wien Wien 1070 Österreich;X-APPLE-RADIUS=500;X-TITLE=Siebensterngasse 42-44:geo:16.3513259,48.2023536
END:VEVENT
END:VCALENDAR