BEGIN:VCALENDAR
VERSION:2.0
PRODID:-//STRAWANZERIN - ECPv4.9.5//NONSGML v1.0//EN
CALSCALE:GREGORIAN
METHOD:PUBLISH
X-WR-CALNAME:STRAWANZERIN
X-ORIGINAL-URL:https://www.strawanzerin.at
X-WR-CALDESC:Veranstaltungen im STRAWANZERIN
BEGIN:VTIMEZONE
TZID:"Europe/Vienna"
BEGIN:DAYLIGHT
TZOFFSETFROM:+0100
TZOFFSETTO:+0200
TZNAME:CEST
DTSTART:20170326T010000
END:DAYLIGHT
BEGIN:STANDARD
TZOFFSETFROM:+0200
TZOFFSETTO:+0100
TZNAME:CET
DTSTART:20171029T010000
END:STANDARD
END:VTIMEZONE
BEGIN:VEVENT
DTSTART;TZID="Europe/Vienna":20171216T220000
DTEND;TZID="Europe/Vienna":20171217T040000
DTSTAMP:20260423T212845
CREATED:20171123T130757Z
LAST-MODIFIED:20171123T130757Z
UID:49980-1513461600-1513483200@www.strawanzerin.at
SUMMARY:Galactic Township #12
DESCRIPTION:GALACTIC TOWNSHIP #11 \n▶ MegaDJMama (Galactic Township) \n▶ Miami Vince (Galactic Township) \n▶ Abraham Wurstkessel (RED OUT / Galactic Township) \nstyles:\nshangaan electro\, xigaza\, doble paso\, footwork\, juke\, jungle\, breakbeat hardcore\, elctrofunk\, ghettohouse\, kuduro\, funana\, highlife\, etc. …bring your dancing shoes! \nno sexism – no racism – no homophobia –\nno nationalism – no antisemitism – no antiziganism \nBE NICE OR LEAVE! \n
URL:https://www.strawanzerin.at/termin/galactic-township-12/
LOCATION:AU\, Brunnengasse 76\, Wien\, Wien\, 1160\, Österreich
CATEGORIES:freie Spende,Musik
GEO:48.2143648;16.3371564
X-APPLE-STRUCTURED-LOCATION;VALUE=URI;X-ADDRESS=AU Brunnengasse 76 Wien Wien 1160 Österreich;X-APPLE-RADIUS=500;X-TITLE=Brunnengasse 76:geo:16.3371564,48.2143648
END:VEVENT
END:VCALENDAR