BEGIN:VCALENDAR
VERSION:2.0
PRODID:-//STRAWANZERIN - ECPv4.9.5//NONSGML v1.0//EN
CALSCALE:GREGORIAN
METHOD:PUBLISH
X-WR-CALNAME:STRAWANZERIN
X-ORIGINAL-URL:https://www.strawanzerin.at
X-WR-CALDESC:Veranstaltungen im STRAWANZERIN
BEGIN:VTIMEZONE
TZID:"Europe/Helsinki"
BEGIN:DAYLIGHT
TZOFFSETFROM:+0200
TZOFFSETTO:+0300
TZNAME:EEST
DTSTART:20170326T010000
END:DAYLIGHT
BEGIN:STANDARD
TZOFFSETFROM:+0300
TZOFFSETTO:+0200
TZNAME:EET
DTSTART:20171029T010000
END:STANDARD
END:VTIMEZONE
BEGIN:VEVENT
DTSTART;TZID="Europe/Helsinki":20170121T220000
DTEND;TZID="Europe/Helsinki":20170122T040000
DTSTAMP:20260420T151615
CREATED:20170109T151113Z
LAST-MODIFIED:20170109T151113Z
UID:38509-1485036000-1485057600@www.strawanzerin.at
SUMMARY:Galactic Township #2
DESCRIPTION:milkyway liberation front & vienna shangaan massive present : \n!!! VIENNAS HOTTEST INTERSTELLAR DANCEOFF!!!\ndj malibu & mc stacy\nmega dj mama\nbeatprozessor \nno sexism – no racism – no homophobia –\nno nationalism – no antisemitism – no antiziganism \nBE NICE OR LEAVE! \n
URL:https://www.strawanzerin.at/termin/galactic-township-2/
LOCATION:Österreich
CATEGORIES:Gratis,Kunst/Kultur,Musik,Wien
END:VEVENT
END:VCALENDAR