BEGIN:VCALENDAR
VERSION:2.0
PRODID:-//STRAWANZERIN - ECPv4.9.5//NONSGML v1.0//EN
CALSCALE:GREGORIAN
METHOD:PUBLISH
X-WR-CALNAME:STRAWANZERIN
X-ORIGINAL-URL:https://www.strawanzerin.at
X-WR-CALDESC:Veranstaltungen im STRAWANZERIN
BEGIN:VTIMEZONE
TZID:"Europe/Vienna"
BEGIN:DAYLIGHT
TZOFFSETFROM:+0100
TZOFFSETTO:+0200
TZNAME:CEST
DTSTART:20170326T010000
END:DAYLIGHT
BEGIN:STANDARD
TZOFFSETFROM:+0200
TZOFFSETTO:+0100
TZNAME:CET
DTSTART:20171029T010000
END:STANDARD
END:VTIMEZONE
BEGIN:VEVENT
DTSTART;TZID="Europe/Vienna":20170520T220000
DTEND;TZID="Europe/Vienna":20170521T040000
DTSTAMP:20260420T210328
CREATED:20170503T195639Z
LAST-MODIFIED:20170507T152006Z
UID:43691-1495317600-1495339200@www.strawanzerin.at
SUMMARY:galactic township #5
DESCRIPTION:Milkyway Liberation Front & Vienna Shangaan Massive & 4th Posadist International present \n ! ! ! VIENNAS HOTTEST INTERSTELLAR DANCEOFF ! ! ! \n this time with our very special guest makava experience from gradecs bomb droppa posse!!! \nhttps://www.facebook.com/bombdroppamusic/ \n makava experience ( https://soundcloud.com/makava-experience ) \n dr highway & mr patrol ( https://www.facebook.com/Dr-Highway-Mr-Patrol-1048526475277106/?fref=ts ) \n megadjmama ( https://www.facebook.com/megadjmama/?fref=ts ) \n
URL:https://www.strawanzerin.at/termin/galactic-township-5/
CATEGORIES:Antifaschismus,Antimilitarismus,Antirassimus,Feminismus,Gratis,Kunst/Kultur,Mehrsprachig,Musik,Queer,Recht auf Stadt,Transnational,Wien
END:VEVENT
END:VCALENDAR