BEGIN:VCALENDAR
VERSION:2.0
PRODID:-//STRAWANZERIN - ECPv4.9.5//NONSGML v1.0//EN
CALSCALE:GREGORIAN
METHOD:PUBLISH
X-WR-CALNAME:STRAWANZERIN
X-ORIGINAL-URL:https://www.strawanzerin.at
X-WR-CALDESC:Veranstaltungen im STRAWANZERIN
BEGIN:VTIMEZONE
TZID:"Europe/Paris"
BEGIN:DAYLIGHT
TZOFFSETFROM:+0100
TZOFFSETTO:+0200
TZNAME:CEST
DTSTART:20150329T010000
END:DAYLIGHT
BEGIN:STANDARD
TZOFFSETFROM:+0200
TZOFFSETTO:+0100
TZNAME:CET
DTSTART:20151025T010000
END:STANDARD
END:VTIMEZONE
BEGIN:VEVENT
DTSTART;TZID="Europe/Paris":20150820T180000
DTEND;TZID="Europe/Paris":20150820T180000
DTSTAMP:20260421T223215
CREATED:20150820T194433Z
LAST-MODIFIED:20150826T092152Z
UID:19165-1440093600-1440093600@www.strawanzerin.at
SUMMARY:ganz ARGE Kunst präsentiert: Marajà - Band for Benefit
DESCRIPTION:Live-Musik in gemütlicher Atmosphäre\, kreatives Essen (Fleisch\, vegetarisch\, vegan)\, feine Weine\,…\nEinlaß: 18.00\, Beginn ca. 19.00\, Eintritt: € 7\,- \nDie Einnahmen kommen zur Gänze dem Verein Kinder des Lebens zu Gute. \n
URL:https://www.strawanzerin.at/termin/ganz-arge-kunst-praesentiert-maraja-band-for-benefit/2015-08-20/
LOCATION:Montessori Schule Martina Wurzer\, Kirchenplatz 11\, Tribuswinkel\, Nö\, 2512\, Österreich
CATEGORIES:bis 7,Deutsch,Kunst/Kultur,Musik,Niederösterreich
ATTACH;FMTTYPE=:
ORGANIZER;CN="Verein%20Kinder%20des%20Lebens":MAILTO:b_leither@gmx.at
GEO:48.0073204;16.2711036
X-APPLE-STRUCTURED-LOCATION;VALUE=URI;X-ADDRESS=Montessori Schule Martina Wurzer Kirchenplatz 11 Tribuswinkel Nö 2512 Österreich;X-APPLE-RADIUS=500;X-TITLE=Kirchenplatz 11:geo:16.2711036,48.0073204
END:VEVENT
END:VCALENDAR