BEGIN:VCALENDAR
VERSION:2.0
PRODID:-//STRAWANZERIN - ECPv4.9.5//NONSGML v1.0//EN
CALSCALE:GREGORIAN
METHOD:PUBLISH
X-WR-CALNAME:STRAWANZERIN
X-ORIGINAL-URL:https://www.strawanzerin.at
X-WR-CALDESC:Veranstaltungen im STRAWANZERIN
BEGIN:VTIMEZONE
TZID:"Europe/Helsinki"
BEGIN:DAYLIGHT
TZOFFSETFROM:+0200
TZOFFSETTO:+0300
TZNAME:EEST
DTSTART:20140330T010000
END:DAYLIGHT
BEGIN:STANDARD
TZOFFSETFROM:+0300
TZOFFSETTO:+0200
TZNAME:EET
DTSTART:20141026T010000
END:STANDARD
END:VTIMEZONE
BEGIN:VEVENT
DTSTART;TZID="Europe/Helsinki":20141025T100000
DTEND;TZID="Europe/Helsinki":20141025T100000
DTSTAMP:20260420T200241
CREATED:20140922T081325Z
LAST-MODIFIED:20140922T081325Z
UID:6839-1414231200-1414231200@www.strawanzerin.at
SUMMARY:Ganz schön theatral
DESCRIPTION:Das Toihaus Theater Salzburg ist wieder in der Residenzgalerie Salzburg\nzu Gast und eröffnet einen neuen Blick auf die alten Meister. Man hört Gemurmel\, Stimmen und Musik und schon ändert sich die Atmosphäre in der Galerie. Dort lassen Künstler mit Köper\, Stimme und Bewegung neue Bilder in den Köpfen der Besucher entstehen. Gemeinsam Neues entdecken und Bekanntes lustvoll anders wahrnehmen\, darum geht es bei den Theatralen Führungen. Jeweils am letzen Samstag im Monat um 10.30 Uhr in der Residenzgalerie Salzburg. \n
URL:https://www.strawanzerin.at/termin/ganz-schoen-theatral/2014-10-25/
CATEGORIES:Deutsch,Salzburg,Theater/Kabarett
ATTACH;FMTTYPE=image/jpeg:https://www.strawanzerin.at/wp-content/uploads/2014/09/toiart_museum2_14_15.jpg
END:VEVENT
END:VCALENDAR