BEGIN:VCALENDAR
VERSION:2.0
PRODID:-//STRAWANZERIN - ECPv4.9.5//NONSGML v1.0//EN
CALSCALE:GREGORIAN
METHOD:PUBLISH
X-WR-CALNAME:STRAWANZERIN
X-ORIGINAL-URL:https://www.strawanzerin.at
X-WR-CALDESC:Veranstaltungen im STRAWANZERIN
BEGIN:VTIMEZONE
TZID:"Europe/Vienna"
BEGIN:DAYLIGHT
TZOFFSETFROM:+0100
TZOFFSETTO:+0200
TZNAME:CEST
DTSTART:20250330T010000
END:DAYLIGHT
BEGIN:STANDARD
TZOFFSETFROM:+0200
TZOFFSETTO:+0100
TZNAME:CET
DTSTART:20251026T010000
END:STANDARD
END:VTIMEZONE
BEGIN:VEVENT
DTSTART;TZID="Europe/Vienna":20250323T100000
DTEND;TZID="Europe/Vienna":20250323T130000
DTSTAMP:20260420T182806
CREATED:20250313T091904Z
LAST-MODIFIED:20250313T091904Z
UID:106716-1742724000-1742734800@www.strawanzerin.at
SUMMARY:Gartenstadtvisionen in Penzing - Architekturführung
DESCRIPTION:Die Industrialisierung brachte wachsende Städte\, doch sie spaltete auch: Wohnraum hier\, Grünraum dort. Die Gartenstadtbewegung des 19. Jahrhunderts versprach einen Ausgleich – ein Leben\, das Urbanität und Natur vereint. \nWien erzählt von diesem Streben in drei Epochen: die utopische Siedlung Eden (1921)\, die visionäre Stadt des Kindes (1974) und die internationale Mustersiedlung 9=12 (2007). Drei Projekte\, ein gemeinsames Ziel: Räume zu schaffen\, die mehr sind als nur Orte zum Wohnen. \n
URL:https://www.strawanzerin.at/termin/gartenstadtvisionen-in-penzing-architekturfuehrung/
LOCATION:Haltestelle Herzmanskystraße (50A)\, Wien\, Wien\, 1140
CATEGORIES:Kunst/Kultur,Rundgang,Wien
ATTACH;FMTTYPE=image/jpeg:https://www.strawanzerin.at/wp-content/uploads/2025/03/unnamed-scaled.jpg
END:VEVENT
END:VCALENDAR