BEGIN:VCALENDAR
VERSION:2.0
PRODID:-//STRAWANZERIN - ECPv4.9.5//NONSGML v1.0//EN
CALSCALE:GREGORIAN
METHOD:PUBLISH
X-WR-CALNAME:STRAWANZERIN
X-ORIGINAL-URL:https://www.strawanzerin.at
X-WR-CALDESC:Veranstaltungen im STRAWANZERIN
BEGIN:VTIMEZONE
TZID:"Europe/Vienna"
BEGIN:DAYLIGHT
TZOFFSETFROM:+0100
TZOFFSETTO:+0200
TZNAME:CEST
DTSTART:20220327T010000
END:DAYLIGHT
BEGIN:STANDARD
TZOFFSETFROM:+0200
TZOFFSETTO:+0100
TZNAME:CET
DTSTART:20221030T010000
END:STANDARD
END:VTIMEZONE
BEGIN:VEVENT
DTSTART;TZID="Europe/Vienna":20220315T190000
DTEND;TZID="Europe/Vienna":20220315T190000
DTSTAMP:20260422T003351
CREATED:20220214T111026Z
LAST-MODIFIED:20220302T115740Z
UID:82823-1647370800-1647370800@www.strawanzerin.at
SUMMARY:Geh Denken! – Queer History
DESCRIPTION:Wissenschaftliche Vorträge\, Podiumsdiskussionen und Gespräche mit Zeitzeug*innen: Geh Denken! versteht sich als Beitrag zu einer lebendigen Gedächtniskultur. Die interdisziplinäre Auseinandersetzung mit der Geschichte des Nationalsozialismus bildet den Ausgangspunkt für eine Beschäftigung mit historischen Themen\, deren Bedeutung im vergangenheitspolitischen Diskurs sowie mit Fragen der Geschichtsvermittlung. Im Zentrum stehen offene Reflexion und Diskussion kontroverser Themen\, Schwerpunkt dieses Semesters ist Queer History. \nIn Kooperation mit dem Verein GEDENKDIENST \nFoto © Bureau Kies \n
URL:https://www.strawanzerin.at/termin/geh-denken-queer-history/
LOCATION:Depot – Kunst und Diskussion\, Breite Gasse 3\, Wien\, 1070\, Österreich
CATEGORIES:Antifaschismus,Deutsch,Gratis,Queer,Soziale Kämpfe,Vortrag/Symposium,Wien
ATTACH;FMTTYPE=image/jpeg:https://www.strawanzerin.at/wp-content/uploads/2022/02/K1A7161_c_Bureau_Kies-1-scaled.jpg
ORGANIZER;CN="Depot%20-%20Kunst%20und%20Diskussion":MAILTO:depot@depot.or.at
END:VEVENT
END:VCALENDAR