BEGIN:VCALENDAR
VERSION:2.0
PRODID:-//STRAWANZERIN - ECPv4.9.5//NONSGML v1.0//EN
CALSCALE:GREGORIAN
METHOD:PUBLISH
X-WR-CALNAME:STRAWANZERIN
X-ORIGINAL-URL:https://www.strawanzerin.at
X-WR-CALDESC:Veranstaltungen im STRAWANZERIN
BEGIN:VTIMEZONE
TZID:"Europe/Vienna"
BEGIN:DAYLIGHT
TZOFFSETFROM:+0100
TZOFFSETTO:+0200
TZNAME:CEST
DTSTART:20240331T010000
END:DAYLIGHT
BEGIN:STANDARD
TZOFFSETFROM:+0200
TZOFFSETTO:+0100
TZNAME:CET
DTSTART:20241027T010000
END:STANDARD
END:VTIMEZONE
BEGIN:VEVENT
DTSTART;TZID="Europe/Vienna":20240926T180000
DTEND;TZID="Europe/Vienna":20240926T180000
DTSTAMP:20260420T202750
CREATED:20240906T173902Z
LAST-MODIFIED:20240906T173902Z
UID:102940-1727373600-1727373600@www.strawanzerin.at
SUMMARY:Gehen in Umarmung. Queer Tango Argentino jenseits von Gender Grenzen - eine poetische Dokumentation. Anita C. Schaub\, Wien und Kärnten 2024\, 40min.
DESCRIPTION:Filmabend \nMit dem Begriff Tango Argentino\, der seit Beginn des 21. Jahrhunderts in Österreich getanzt wird\, verbindet man traditionell Machismus\, Chauvinismus und Heterosexualität. Eine andere Sichtweise dieses alten Paartanzes erlaubt jedoch der neuere „Queer Tango-Begriff“: Es geht um neue\, offene Kommunikationsformen jenseits der traditionellen Geschlechterrollen\, um ein „getanztes Zwiegespräch“. Die Rollen können während des Tanzes gewechselt werden. Dadurch ergeben sich unendlich viel Möglichkeiten des gemeinsamen Tanzes – und das auf Augenhöhe. \nAnita C. Schaub (Autorin und Videokünstlerin\, Interdisziplinäre Projekte mit Schwerpunkt Frauenkunst und –Literatur\, Sachbuch\, Prosa\, Poetryfilm) wird an dem Abend anwesend sein und steht für Diskussionen zur Verfügung. \nModeration Tara Pire \nDie Veranstaltung ist für alle Geschlechter offen \n
URL:https://www.strawanzerin.at/termin/gehen-in-umarmung-queer-tango-argentino-jenseits-von-gender-grenzen-eine-poetische-dokumentation-anita-c-schaub-wien-und-kaernten-2024-40min/
LOCATION:Frauenbildungsstätte Frauenhetz\, Untere Weißgerberstraße 41\, Wien\, Wien\, 1030\, Österreich
CATEGORIES:Deutsch,Feminismus,Film,Gratis,Kunst/Kultur,Queer,Tanz,Vortrag/Symposium,Wien
GEO:48.2084854;16.3946163
X-APPLE-STRUCTURED-LOCATION;VALUE=URI;X-ADDRESS=Frauenbildungsstätte Frauenhetz Untere Weißgerberstraße 41 Wien Wien 1030 Österreich;X-APPLE-RADIUS=500;X-TITLE=Untere Weißgerberstraße 41:geo:16.3946163,48.2084854
END:VEVENT
END:VCALENDAR