BEGIN:VCALENDAR
VERSION:2.0
PRODID:-//STRAWANZERIN - ECPv4.9.5//NONSGML v1.0//EN
CALSCALE:GREGORIAN
METHOD:PUBLISH
X-WR-CALNAME:STRAWANZERIN
X-ORIGINAL-URL:https://www.strawanzerin.at
X-WR-CALDESC:Veranstaltungen im STRAWANZERIN
BEGIN:VTIMEZONE
TZID:"Europe/Vienna"
BEGIN:DAYLIGHT
TZOFFSETFROM:+0100
TZOFFSETTO:+0200
TZNAME:CEST
DTSTART:20210328T010000
END:DAYLIGHT
BEGIN:STANDARD
TZOFFSETFROM:+0200
TZOFFSETTO:+0100
TZNAME:CET
DTSTART:20211031T010000
END:STANDARD
END:VTIMEZONE
BEGIN:VEVENT
DTSTART;TZID="Europe/Vienna":20211014T200000
DTEND;TZID="Europe/Vienna":20211014T214500
DTSTAMP:20260420T141626
CREATED:20210927T083809Z
LAST-MODIFIED:20210927T083822Z
UID:80605-1634241600-1634247900@www.strawanzerin.at
SUMMARY:«Geliebter Lügner» in der Bühnenbearbeitung von Jerome Kilty
DESCRIPTION:Nur für kurze Zeit steht die Liebesgeschichte aus dem Briefwechsel zwischen dem Dramatiker George Bernard Shaw und der Schauspielerin Stella Patrick Campbell auf dem Spielplan der Komödie am Kai. Vierzig Jahre lang schrieben sich die beiden Briefe über Nichtigkeiten und Wichtigkeiten\, Theater und Zeitgeschichte\, über ihr eigenes und das Leben überhaupt. Die zärtlichen\, verspielten\, stets geistreichen Schriftstücke spiegeln zwei ungewöhnliche Lebensgeschichten wider\, die Doris Richter-Bieber und Rudolf Larsen auf der Bühne verkörpern. \nSpielzeiten:\n14. bis 30. Oktober 2021\, DI bis SA 20 Uhr \nInfo:\nTel. 01 533 24 34 \nBild: Doris Richter-Bieber und Rudolf Larsen\, Foto/© Komödie am Kai \n
URL:https://www.strawanzerin.at/termin/geliebter-luegner-in-der-buehnenbearbeitung-von-jerome-kilty/2021-10-14/
LOCATION:Komödie am Kai\, Franz-Josefs-Kai 29\, Wien\, Wien\, 1010\, Österreich
CATEGORIES:ab 7,Kunst/Kultur,Theater/Kabarett,Wien
ATTACH;FMTTYPE=image/jpeg:https://www.strawanzerin.at/wp-content/uploads/2021/09/gl3-Kopie.jpg
GEO:48.2121522;16.3749182
X-APPLE-STRUCTURED-LOCATION;VALUE=URI;X-ADDRESS=Komödie am Kai Franz-Josefs-Kai 29 Wien Wien 1010 Österreich;X-APPLE-RADIUS=500;X-TITLE=Franz-Josefs-Kai 29:geo:16.3749182,48.2121522
END:VEVENT
END:VCALENDAR