BEGIN:VCALENDAR
VERSION:2.0
PRODID:-//STRAWANZERIN - ECPv4.9.5//NONSGML v1.0//EN
CALSCALE:GREGORIAN
METHOD:PUBLISH
X-WR-CALNAME:STRAWANZERIN
X-ORIGINAL-URL:https://www.strawanzerin.at
X-WR-CALDESC:Veranstaltungen im STRAWANZERIN
BEGIN:VTIMEZONE
TZID:"Europe/Vienna"
BEGIN:DAYLIGHT
TZOFFSETFROM:+0100
TZOFFSETTO:+0200
TZNAME:CEST
DTSTART:20190331T010000
END:DAYLIGHT
BEGIN:STANDARD
TZOFFSETFROM:+0200
TZOFFSETTO:+0100
TZNAME:CET
DTSTART:20191027T010000
END:STANDARD
BEGIN:DAYLIGHT
TZOFFSETFROM:+0100
TZOFFSETTO:+0200
TZNAME:CEST
DTSTART:20200329T010000
END:DAYLIGHT
BEGIN:STANDARD
TZOFFSETFROM:+0200
TZOFFSETTO:+0100
TZNAME:CET
DTSTART:20201025T010000
END:STANDARD
END:VTIMEZONE
BEGIN:VEVENT
DTSTART;TZID="Europe/Vienna":20191231T200000
DTEND;TZID="Europe/Vienna":20200101T020000
DTSTAMP:20260421T104429
CREATED:20191227T114743Z
LAST-MODIFIED:20200108T132803Z
UID:70955-1577822400-1577844000@www.strawanzerin.at
SUMMARY:GenussSpiegel präsentiert: Der Silvester-Rutsch 2019
DESCRIPTION:Feiert mit uns im kleinen\, feinen Rahmen den Sprung ins neue Jahrzehnt.  \nBeim gemütlichen Beisammensein und einem schmackhaften Buffet lässt’s sich g’schmeidiger Rüberrutschen. 🙂 \nKaltes & warmes Buffet EUR 18\,- [p.P. | exkl. Getränke] \nBitte um Anmeldung unter 0676/5723023 \n
URL:https://www.strawanzerin.at/termin/genussspiegel-praesentiert-der-silvester-rutsch-2019/
LOCATION:Kleinkunst-Café GenussSpiegel – Café\, Kunst & Kulinarik\, Levasseurgasse 19\, Wien\, Wien\, 1230\, Österreich
CATEGORIES:Party
ATTACH;FMTTYPE=image/jpeg:https://www.strawanzerin.at/wp-content/uploads/2019/12/Flyer-Silvester-2019.jpg
ORGANIZER;CN="Kleinkunst-Caf%C3%A9%20GenussSpiegel":MAILTO:office@genuss-spiegel.at
GEO:48.1471746;16.2947927
X-APPLE-STRUCTURED-LOCATION;VALUE=URI;X-ADDRESS=Kleinkunst-Café GenussSpiegel – Café Kunst & Kulinarik Levasseurgasse 19 Wien Wien 1230 Österreich;X-APPLE-RADIUS=500;X-TITLE=Levasseurgasse 19:geo:16.2947927,48.1471746
END:VEVENT
END:VCALENDAR