BEGIN:VCALENDAR
VERSION:2.0
PRODID:-//STRAWANZERIN - ECPv4.9.5//NONSGML v1.0//EN
CALSCALE:GREGORIAN
METHOD:PUBLISH
X-WR-CALNAME:STRAWANZERIN
X-ORIGINAL-URL:https://www.strawanzerin.at
X-WR-CALDESC:Veranstaltungen im STRAWANZERIN
BEGIN:VTIMEZONE
TZID:"Europe/Vienna"
BEGIN:DAYLIGHT
TZOFFSETFROM:+0100
TZOFFSETTO:+0200
TZNAME:CEST
DTSTART:20200329T010000
END:DAYLIGHT
BEGIN:STANDARD
TZOFFSETFROM:+0200
TZOFFSETTO:+0100
TZNAME:CET
DTSTART:20201025T010000
END:STANDARD
END:VTIMEZONE
BEGIN:VEVENT
DTSTART;TZID="Europe/Vienna":20200124T193000
DTEND;TZID="Europe/Vienna":20200124T220000
DTSTAMP:20260421T171324
CREATED:20191228T110710Z
LAST-MODIFIED:20200108T132825Z
UID:70975-1579894200-1579903200@www.strawanzerin.at
SUMMARY:GenussSpiegel´s Oldies But Goldies
DESCRIPTION:GenussSpiegel präsentiert: Oldies But Goldies – Der 60er-Schlagerabend \nDas Duo Inge & Georg | Inge Freitag und Georg Weilguny | lassen in Ihrer unverkennbaren charmanten Art und Weise die Schlager aus den 60er-Jahren und davor stimm[ungs]voll wieder aufleben. \nEintritt: EUR 15\,- \nDatum: Freitag\, 24.01.2020 – 19:30 Uhr \nAnmeldung unter: Tel. 0676 57 23 023 oder office@genuss-spiegel.at \nOrt: Kleinkunst-Café GenussSpiegel – Kunst | Kultur | Catering\n1230 Wien\, Levasseurgasse 19 \nwww.genuss-spiegel.at\nwww.facebook.com/GenussSpiegel \n
URL:https://www.strawanzerin.at/termin/genussspiegels-oldies-but-goldies/
LOCATION:Kleinkunst-Café GenussSpiegel – Café\, Kunst & Kulinarik\, Levasseurgasse 19\, Wien\, Wien\, 1230\, Österreich
CATEGORIES:Musik
ATTACH;FMTTYPE=image/jpeg:https://www.strawanzerin.at/wp-content/uploads/2019/12/IngeGeorg_Flyer.jpg
ORGANIZER;CN="Kleinkunst-Caf%C3%A9%20GenussSpiegel":MAILTO:office@genuss-spiegel.at
GEO:48.1471746;16.2947927
X-APPLE-STRUCTURED-LOCATION;VALUE=URI;X-ADDRESS=Kleinkunst-Café GenussSpiegel – Café Kunst & Kulinarik Levasseurgasse 19 Wien Wien 1230 Österreich;X-APPLE-RADIUS=500;X-TITLE=Levasseurgasse 19:geo:16.2947927,48.1471746
END:VEVENT
END:VCALENDAR