BEGIN:VCALENDAR
VERSION:2.0
PRODID:-//STRAWANZERIN - ECPv4.9.5//NONSGML v1.0//EN
CALSCALE:GREGORIAN
METHOD:PUBLISH
X-WR-CALNAME:STRAWANZERIN
X-ORIGINAL-URL:https://www.strawanzerin.at
X-WR-CALDESC:Veranstaltungen im STRAWANZERIN
BEGIN:VTIMEZONE
TZID:"Europe/Vienna"
BEGIN:DAYLIGHT
TZOFFSETFROM:+0100
TZOFFSETTO:+0200
TZNAME:CEST
DTSTART:20240331T010000
END:DAYLIGHT
BEGIN:STANDARD
TZOFFSETFROM:+0200
TZOFFSETTO:+0100
TZNAME:CET
DTSTART:20241027T010000
END:STANDARD
END:VTIMEZONE
BEGIN:VEVENT
DTSTART;TZID="Europe/Vienna":20240321T180000
DTEND;TZID="Europe/Vienna":20240321T193000
DTSTAMP:20260423T145123
CREATED:20240315T100014Z
LAST-MODIFIED:20240321T113749Z
UID:97522-1711044000-1711049400@www.strawanzerin.at
SUMMARY:Abgesagt: Geopolitical Talks: Geopolitics and the Energy Transition. Can the Downward Spiral Be Reversed?
DESCRIPTION:Diese Veranstaltung wurde kurzfristig abgesagt. Wir bitten etwaige Unannehmlichkeiten zu entschuldigen. \nEnergy and geopolitics have long been entangled\, with major shifts in one driving major changes in the other. Meghan L. O’Sullivan will discuss how this interdependence has never been more relevant to the future of humanity than it is today. \nIn her keynote speech\, the speaker will elaborate on the emergence of a feedback loop between the deteriorating geopolitical environment and the ongoing energy transition to a net-zero global economy. She will show how this feedback loop is both making the world more dangerous and the energy transition more difficult. O’Sullivan asks – and seeks to answer – how this downward spiral can be reversed for the benefit of both the climate and the emerging global order. \nMeghan L. O’Sullivan is the Jeane Kirkpatrick Professor of the Practice of International Affairs at Harvard University’s Kennedy School and the Director of the Belfer Center for Science and International Affairs. Dr. O’Sullivan’s scholarship is at the nexus of traditional disciplines\, with particular expertise on how the energy transition and geopolitics intersect. O’Sullivan has served in multiple senior policymaking roles and has advised national security officials in both Republican and Democratic administrations. Dr. O’Sullivan is a member of U.S. Secretary of State Anthony Blinken’s Foreign Policy Advisory Board. Between 2004 and 2007\, she was special assistant to President George W. Bush and was Deputy National Security Advisor for Iraq and Afghanistan during the last two years of her tenure. O’Sullivan has been on public company and non-profit boards. She is a Senior Director at the strategic consulting firm Macro Advisory Partners and is the Chair of the North American Group of the Trilateral Commission. \nHosted by Ivan Krastev\, IWM Permanent Fellow and Director of the Centre for Liberal Studies in Sofia\, Bulgaria. \nGeopolitical Talks is a series of public debates with foreign policy experts and former politicians\, initiated by IWM Permanent Fellow Ivan Krastev in 2018. \nIn cooperation with Bundesministerium für Landesverteidigung (BMLV). \n
URL:https://www.strawanzerin.at/termin/geopolitical-talks-geopolitics-and-the-energy-transition-can-the-downward-spiral-be-reversed/
LOCATION:Institut für die Wissenschaften vom Menschen (IWM)\, Spittelauer Lände 3\, Wien\, Wien\, 1090\, Österreich
CATEGORIES:Englisch,Ökologie,Vortrag/Symposium,Wien
ATTACH;FMTTYPE=image/png:https://www.strawanzerin.at/wp-content/uploads/2024/03/6-1-2.png
ORGANIZER;CN="Institut%20f%C3%BCr%20die%20Wissenschaften%20vom%20Menschen":MAILTO:communications@iwm.at
END:VEVENT
END:VCALENDAR