BEGIN:VCALENDAR
VERSION:2.0
PRODID:-//STRAWANZERIN - ECPv4.9.5//NONSGML v1.0//EN
CALSCALE:GREGORIAN
METHOD:PUBLISH
X-WR-CALNAME:STRAWANZERIN
X-ORIGINAL-URL:https://www.strawanzerin.at
X-WR-CALDESC:Veranstaltungen im STRAWANZERIN
BEGIN:VTIMEZONE
TZID:"Europe/Paris"
BEGIN:DAYLIGHT
TZOFFSETFROM:+0100
TZOFFSETTO:+0200
TZNAME:CEST
DTSTART:20150329T010000
END:DAYLIGHT
BEGIN:STANDARD
TZOFFSETFROM:+0200
TZOFFSETTO:+0100
TZNAME:CET
DTSTART:20151025T010000
END:STANDARD
END:VTIMEZONE
BEGIN:VEVENT
DTSTART;TZID="Europe/Paris":20150923T200000
DTEND;TZID="Europe/Paris":20150923T220000
DTSTAMP:20260423T195315
CREATED:20150813T093556Z
LAST-MODIFIED:20150817T095645Z
UID:19075-1443038400-1443045600@www.strawanzerin.at
SUMMARY:Georg Bauernfeind: Kabarett  & CD-Präsentation - „Mit‘n letzten Geld“
DESCRIPTION:Kabarett-Premiere und CD-Präsentation \nDer Kabarettist und Liedermacher Georg Bauernfeind stellt sein Best-Of-Programm mit dem Titel MIT‘N LETZTEN GELD vor. Der Großteil der darin vorkommenden Lieder befindet sich auch auf Bauernfeinds aktueller CD „Vorsorgelieder und Zukunftsmusik“\, die am 18.9.2015 digital erscheint und im Spektakel am 23. September 2015 live präsentiert wird. \n“Vorsorgelieder & Zukunftsmusik” nennt der Musik-Kabarettist Georg Bauernfeind seine aktuelle CD: Die darauf enthaltenen zehn Lieder setzen sich mit Themen wie den internationalen Finanzmärkten (“Moneymaker”) und dem Traum vom Lotto-Gewinn (“Lotto-Totto-Otto”) auseinander. Augenzwinkernd und mit feinem Humor nimmt Bauernfeind den Zuhörer mit in den EZA-Laden („Weltladenjunkie“): „Ich brauch noch ganz viel Kardamon und Bioschokolade/ Und Mangosirup literweise\, weil ich darin bade.“ \n
URL:https://www.strawanzerin.at/termin/georg-bauernfeind-kabarett-cd-praesentation-mitn-letzten-geld/
LOCATION:Österreich
CATEGORIES:ab 7,Deutsch,Kunst/Kultur,Theater/Kabarett,Wien
ATTACH;FMTTYPE=image/jpeg:https://www.strawanzerin.at/wp-content/uploads/2015/08/BildGeorgBauernfeindkl.jpg
ORGANIZER;CN="Spektakel":MAILTO:office@spektakel.wien
END:VEVENT
END:VCALENDAR