BEGIN:VCALENDAR
VERSION:2.0
PRODID:-//STRAWANZERIN - ECPv4.9.5//NONSGML v1.0//EN
CALSCALE:GREGORIAN
METHOD:PUBLISH
X-WR-CALNAME:STRAWANZERIN
X-ORIGINAL-URL:https://www.strawanzerin.at
X-WR-CALDESC:Veranstaltungen im STRAWANZERIN
BEGIN:VTIMEZONE
TZID:"Europe/Vienna"
BEGIN:DAYLIGHT
TZOFFSETFROM:+0100
TZOFFSETTO:+0200
TZNAME:CEST
DTSTART:20250330T010000
END:DAYLIGHT
BEGIN:STANDARD
TZOFFSETFROM:+0200
TZOFFSETTO:+0100
TZNAME:CET
DTSTART:20251026T010000
END:STANDARD
END:VTIMEZONE
BEGIN:VEVENT
DTSTART;TZID="Europe/Vienna":20251013T180000
DTEND;TZID="Europe/Vienna":20251013T180000
DTSTAMP:20260422T143849
CREATED:20250911T124724Z
LAST-MODIFIED:20250911T124724Z
UID:109439-1760378400-1760378400@www.strawanzerin.at
SUMMARY:Geschichte trifft Gegenwart // Flucht\, Erinnerung und Dialog
DESCRIPTION:Achtzig Jahre nach Kriegsende stehen die Themen Flucht\, Erinnerung und das Miteinander in einer vielfältigen Gesellschaft im Zentrum. Der Abend informiert über historische Hintergründe und die Situation von gestrandeten Menschen in DP-Camps wie dem Wiener Rothschildspital. Er wird durch die Ausstellung Grenzen überwinden – Jüdische Flucht im Salzburger Hochgebirge 1947 begleitet. \nJasmin Koch\, Verein Fremde werden Freunde\, Wien\nJudith Kohlenberger\, Kulturwissenschaftlerin und Migrationsforscherin\, WU Wien\nChristine Oertel\, Zeithistorikerin\, Margarethe-Schütte-Lihotzky Zentrum\, Wien\nModeration: Antonia Winsauer & Daniela Lackner\, ERINNERN:AT\, Wien \nIn Kooperation mit ERINNERN:AT. \n
URL:https://www.strawanzerin.at/termin/geschichte-trifft-gegenwart-flucht-erinnerung-und-dialog/
LOCATION:Depot – Kunst und Diskussion\, Breite Gasse 3\, Wien\, 1070\, Österreich
CATEGORIES:Antifaschismus,Antirassimus,Deutsch,Gratis,Kunst/Kultur,Wien
ATTACH;FMTTYPE=image/jpeg:https://www.strawanzerin.at/wp-content/uploads/2025/09/K1A7100_Logo_c_Bureau_Kies-5-scaled.jpg
ORGANIZER;CN="Depot%20-%20Kunst%20und%20Diskussion":MAILTO:depot@depot.or.at
END:VEVENT
END:VCALENDAR