BEGIN:VCALENDAR
VERSION:2.0
PRODID:-//STRAWANZERIN - ECPv4.9.5//NONSGML v1.0//EN
CALSCALE:GREGORIAN
METHOD:PUBLISH
X-WR-CALNAME:STRAWANZERIN
X-ORIGINAL-URL:https://www.strawanzerin.at
X-WR-CALDESC:Veranstaltungen im STRAWANZERIN
BEGIN:VTIMEZONE
TZID:"Europe/Helsinki"
BEGIN:DAYLIGHT
TZOFFSETFROM:+0200
TZOFFSETTO:+0300
TZNAME:EEST
DTSTART:20160327T010000
END:DAYLIGHT
BEGIN:STANDARD
TZOFFSETFROM:+0300
TZOFFSETTO:+0200
TZNAME:EET
DTSTART:20161030T010000
END:STANDARD
END:VTIMEZONE
BEGIN:VEVENT
DTSTART;TZID="Europe/Helsinki":20161026T150000
DTEND;TZID="Europe/Helsinki":20161026T170000
DTSTAMP:20260421T192259
CREATED:20160921T092820Z
LAST-MODIFIED:20160928T145906Z
UID:34027-1477494000-1477501200@www.strawanzerin.at
SUMMARY:GeschichtenOrt Hofburg: Kuratorinnenführung
DESCRIPTION:GeschichtenOrt Hofburg: FÜHRUNGSTERMINE IM SEPTEMBER & OKTOBER  \nFür Interessierte bietet die Ausstellung „GeschichtenOrt Hofburg“ im September und Oktober 2016 Führungen mit den Kuratorinnen Maria Welzig und Ingrid Holzschuh an.  \nWANN?\nFreitag\, 30. September\, 17:00 Uhr\nFreitag\, 14. Oktober\, 17:00 Uhr\nMittwoch\, 26. Oktober\, 15:00 Uhr  \nBei Regen findet die Führung nicht statt.  \nTREFFPUNKT?\nHofburg\, Innerer Burghof\, Installation „Vom Ritterturnier zur Kissenschlacht“ neben dem Denkmal Kaiser Franz I.  \nPREISE & ANMELDUNG?\nDer Preis pro Führung beträgt EUR 7 und ist vor Ort zu begleichen. Eine Anmeldung zur Führung erfolgt unter geschichtenort@gmx.net.  \nDie Besucherinnen und Besucher erwartet eine historische Zeitreise\, vom 16. Jahrhundert bis zur Gegenwart\, durch das Wiener Hofburg – Areal\, bei der nicht die Herrschaftsgeschichte und das Kaiserhaus\, sondern das Alltagsleben der Menschen\, Bürgerproteste\, Demokratiebewegungen u.v.m. im Vordergrund stehen. Die Kuratorinnen von „GeschichtenOrt Hofburg“\, Maria Welzig und Ingrid Holzschuh\, vermitteln darüber hinaus Wissenswertes zur Idee und den Hintergründen der Ausstellung und geben Einblicke zur Gestaltung der Installationen und ihre Funktion als „Stadtmöbel“.  \nWeitere Informationen: http://geschichtenort.eu/de/aktuelles/ | http://facebook.com/GeschichtenOrt \n
URL:https://www.strawanzerin.at/termin/geschichtenort-hofburg-kuratorinnenfuehrung-3/
CATEGORIES:Ausstellung,Bildung,Deutsch,Eintrittspreis,Wien
ATTACH;FMTTYPE=image/jpeg:https://www.strawanzerin.at/wp-content/uploads/2016/09/Vom-Ritterturnier-zur-Kissenschlacht_C_Feld72_WEB-2.jpg
END:VEVENT
END:VCALENDAR