BEGIN:VCALENDAR
VERSION:2.0
PRODID:-//STRAWANZERIN - ECPv4.9.5//NONSGML v1.0//EN
CALSCALE:GREGORIAN
METHOD:PUBLISH
X-WR-CALNAME:STRAWANZERIN
X-ORIGINAL-URL:https://www.strawanzerin.at
X-WR-CALDESC:Veranstaltungen im STRAWANZERIN
BEGIN:VTIMEZONE
TZID:"Europe/Vienna"
BEGIN:DAYLIGHT
TZOFFSETFROM:+0100
TZOFFSETTO:+0200
TZNAME:CEST
DTSTART:20220327T010000
END:DAYLIGHT
BEGIN:STANDARD
TZOFFSETFROM:+0200
TZOFFSETTO:+0100
TZNAME:CET
DTSTART:20221030T010000
END:STANDARD
END:VTIMEZONE
BEGIN:VEVENT
DTSTART;TZID="Europe/Vienna":20220829T180000
DTEND;TZID="Europe/Vienna":20220829T193000
DTSTAMP:20260423T230601
CREATED:20220828T130418Z
LAST-MODIFIED:20220831T074745Z
UID:86169-1661796000-1661801400@www.strawanzerin.at
SUMMARY:Gesprächsrunde Feldversuche Symposium - Bildende Kunst zwischen Baustelle und Ackerfurche
DESCRIPTION:Perspektiven auf Stadt und Ernährung \nDie Kleinen Stadtfarm versammelt verschiedenste landwirtschaftliche\, soziale und kulturelle Initiativen am ehemaligen Gelände von Wiens ersten Bio-Bauernhof. Gelegen in der Donaustadt zwischen Stadtentwicklungsgebieten\, Einfamilienhaus-Baustellen\, Donauauen und Landwirtschaften befindet sich der soziokratisch geführte Gemeinschaftshof der Kleinen Stadtfarm gewissermaßen inmitten des Spannungsfelds „Stadt und Ernährung“: Städtewachstum und Wohnraumschaffung\, Bodenversiegelung\, Ernährungssicherheit\, Möglichkeiten solidarischer Landwirtschaft\, und die Distanz der Bevölkerung zur Lebensmittelproduktion sind hier einige Schlagwörter.  \nDie Kleine Stadtfarm ist damit idealer Ort\, um über Ernährung und Landwirtschaft im Kontext von Stadtentwicklung\, Wohnraumknappheit\, Klimawandel\, Naturschutz und Ressourcenverbrauch zu sprechen. \nGesprächsrunde mit Manuel Bornbaum (Pilzzüchter Hut&Stil)\, Christina Gruber (Süßwasserökologin\, Künstlerin)\, Isabella Gusenbauer (Sprecherin des Ernährungsrat)\, Peter Görgl (Geograph und Stadtforscher\, Institut für Geographie und Regionalforschung\, Universität Wien)\, Daniel Gusenbauer (Sozioökonom und Degrowth Aktivist) \nNaufahrtweg 14A\, 1220 Wien \n
URL:https://www.strawanzerin.at/termin/gespraechsrunde-feldversuche-symposium-bildende-kunst-zwischen-baustelle-und-ackerfurche/
LOCATION:Kleine Stadtfarm\, Naufahrtweg 14A\, Wien\, 1220\, Österreich
CATEGORIES:Deutsch,Gratis,Kunst/Kultur,Ökologie,Vortrag/Symposium,Wien
ATTACH;FMTTYPE=image/jpeg:https://www.strawanzerin.at/wp-content/uploads/2022/08/IMG_7390-zu-scaled.jpg
ORGANIZER;CN="Die%20Feldversuche":MAILTO:mail@diefeldversuche.org
END:VEVENT
END:VCALENDAR