BEGIN:VCALENDAR
VERSION:2.0
PRODID:-//STRAWANZERIN - ECPv4.9.5//NONSGML v1.0//EN
CALSCALE:GREGORIAN
METHOD:PUBLISH
X-WR-CALNAME:STRAWANZERIN
X-ORIGINAL-URL:https://www.strawanzerin.at
X-WR-CALDESC:Veranstaltungen im STRAWANZERIN
BEGIN:VTIMEZONE
TZID:"Europe/Helsinki"
BEGIN:DAYLIGHT
TZOFFSETFROM:+0200
TZOFFSETTO:+0300
TZNAME:EEST
DTSTART:20170326T010000
END:DAYLIGHT
BEGIN:STANDARD
TZOFFSETFROM:+0300
TZOFFSETTO:+0200
TZNAME:EET
DTSTART:20171029T010000
END:STANDARD
END:VTIMEZONE
BEGIN:VEVENT
DTSTART;TZID="Europe/Helsinki":20170127T200000
DTEND;TZID="Europe/Helsinki":20170127T213000
DTSTAMP:20260423T181731
CREATED:20161130T153254Z
LAST-MODIFIED:20161130T153254Z
UID:37539-1485547200-1485552600@www.strawanzerin.at
SUMMARY:Gin Müller/Gorji Marzban/Jan Machacek Fantomas Monster Teil 1/Iran: Fantomas gegen die Macht der Auslöschung
DESCRIPTION:Die Comicfigur Fantomas steht im Zentrum des multimedialen Projekts als Sinnbild für einen rebellischen Geist\, der zwischen Iran\, Mexiko und Europa reist und in historische\, real-politische und fantastische Ereignisse involviert wird. Der erste Teil der Politthriller-Serie\, Fantomas gegen die Macht der Auslöschung\, basiert auf Archivmaterial und Erzählungen der Aktivistin Parastou Forouhar. Darin fährt die Künstlerin und Autorin wiederholt von Europa in den Iran\, das Land\, in dem ihre Eltern 1998 vom Regime umgebracht wurden. Gemeinsam mit Fantomas kämpft sie gegen die tödlichen Strategien der Auslöschung\, des Verschwindens von Menschen und Erinnerungen im iranischen Gottesstaat. Die menschlichen SuperheldInnen geraten dabei immer tiefer in eine Welt der Wirren von politischer Realität\, Korruption\, Projektion und Fiktion. \nGin Müller ist Dramaturg\, Performer\, Queer-Aktivist und arbeitet an der Schnittstelle von Performancekunst und politischem Aktivismus. Jan Machacek studierte Bildhauerei und Bühnenbild in Wien und Karlsruhe. Seit 2002 arbeitet er an der Schnittstelle von Medienkunst und Performance. Gorji Marzban ist Naturwissenschaftler\, Schriftsteller\, Poet\, Performer und Menschenrechtsaktivist. Fantomas Monster ist die erste Zusammenarbeit der drei Künstler in dieser Konstellation gemeinsam mit dem transnationalen Schauspielensemble Edwarda Gurrola\, Kaveh Parmas und Stefanie Sourial.\nBegleitprogramm (Eintritt frei!) \n17.12.2016 – 22.00 Uhr (im Anschluss an die Performance)\nPublikumsgespräch mit der Künstlerin und Aktivistin Parastou Forouhar & dem Team \n27.01.2017 – 22.00 Uhr (im Anschluss an die Performance)\nPräsentation der Fantomas Graphic Novel Publikation & Party \n28.01.2017 – 16:00 Uhr:\nLecture der iranischen Künstlerin und Aktivistin Parastou Forouhar & Diskussion iranischen MenschenrechtsaktivistInnen. \n29.1.2017 – 18:00 Uhr:\nFilmscreening „Tod in Teheran“ (D\, 2005)\nDokumentation über die Hintergründe zu den Morden an den iranischen Oppositionspolitikern Dariush und Parvaneh Forouhar 1998. \n
URL:https://www.strawanzerin.at/termin/gin-muellergorji-marzbanjan-machacek-fantomas-monster-teil-1iran-fantomas-gegen-die-macht-der-ausloeschung/2017-01-27/
LOCATION:brut im Künstlerhaus\, Karlsplatz 5\, Wien\, 1010\, Österreich
CATEGORIES:ab 7,Soziale Kämpfe,Theater/Kabarett,Wien
ATTACH;FMTTYPE=image/jpeg:https://www.strawanzerin.at/wp-content/uploads/2016/11/newsletter_Fantomas-Monster_credit_Gin-Müller-Jan-Machacek-Gorji-Marzban_1-1.jpg
ORGANIZER;CN="brut":MAILTO:info@brut-wien.at
GEO:48.200534;16.3715493
X-APPLE-STRUCTURED-LOCATION;VALUE=URI;X-ADDRESS=brut im Künstlerhaus Karlsplatz 5 Wien 1010 Österreich;X-APPLE-RADIUS=500;X-TITLE=Karlsplatz 5:geo:16.3715493,48.200534
END:VEVENT
END:VCALENDAR