BEGIN:VCALENDAR
VERSION:2.0
PRODID:-//STRAWANZERIN - ECPv4.9.5//NONSGML v1.0//EN
CALSCALE:GREGORIAN
METHOD:PUBLISH
X-WR-CALNAME:STRAWANZERIN
X-ORIGINAL-URL:https://www.strawanzerin.at
X-WR-CALDESC:Veranstaltungen im STRAWANZERIN
BEGIN:VTIMEZONE
TZID:"Europe/Vienna"
BEGIN:DAYLIGHT
TZOFFSETFROM:+0100
TZOFFSETTO:+0200
TZNAME:CEST
DTSTART:20250330T010000
END:DAYLIGHT
BEGIN:STANDARD
TZOFFSETFROM:+0200
TZOFFSETTO:+0100
TZNAME:CET
DTSTART:20251026T010000
END:STANDARD
END:VTIMEZONE
BEGIN:VEVENT
DTSTART;TZID="Europe/Vienna":20251019T180000
DTEND;TZID="Europe/Vienna":20251019T210000
DTSTAMP:20260421T053302
CREATED:20251017T080613Z
LAST-MODIFIED:20251017T080613Z
UID:110305-1760896800-1760907600@www.strawanzerin.at
SUMMARY:Glamour\, Glanz\, Gloria
DESCRIPTION:Die frischdiplomierten Clowngesell:innen aus dem erstbesten Leergang im Theater Olé zeigen ein Feuerwerk an sprühenden Clown Nummern: \nSchaut euch starke Kunststücke\, schmucke Junker und eine elegante Tänzerin an… hört gar schaurige Geschichten und bewundert die weltbeste Tennisspielerin und Zauberkünste\, welche die Grenzen der Physik sprengen. \nDie Einnahmen fließen in die Gründung eines eigenen Clown Verein des Lehrgangs.. 🙂 \nBitte reserviert\, damit wir auch wissen\, dass ihr kommt:\nhttps://www.theater-ole.at/reservierungen.php \n
URL:https://www.strawanzerin.at/termin/glamour-glanz-gloria/
LOCATION:Theater Olé  – Clown- \, Komik- und Varietétheater\, Barmherzigengasse 18\, Wien\, Wien\, 1030\, Österreich
CATEGORIES:Kunst/Kultur,Sonstiges,Theater/Kabarett,Wien
ATTACH;FMTTYPE=image/jpeg:https://www.strawanzerin.at/wp-content/uploads/2025/10/Einladung_Glitzer-Glamour-Gloria.jpg
GEO:48.1962173;16.3940663
X-APPLE-STRUCTURED-LOCATION;VALUE=URI;X-ADDRESS=Theater Olé  – Clown-  Komik- und Varietétheater Barmherzigengasse 18 Wien Wien 1030 Österreich;X-APPLE-RADIUS=500;X-TITLE=Barmherzigengasse 18:geo:16.3940663,48.1962173
END:VEVENT
END:VCALENDAR