BEGIN:VCALENDAR
VERSION:2.0
PRODID:-//STRAWANZERIN - ECPv4.9.5//NONSGML v1.0//EN
CALSCALE:GREGORIAN
METHOD:PUBLISH
X-WR-CALNAME:STRAWANZERIN
X-ORIGINAL-URL:https://www.strawanzerin.at
X-WR-CALDESC:Veranstaltungen im STRAWANZERIN
BEGIN:VTIMEZONE
TZID:"Europe/Helsinki"
BEGIN:DAYLIGHT
TZOFFSETFROM:+0200
TZOFFSETTO:+0300
TZNAME:EEST
DTSTART:20140330T010000
END:DAYLIGHT
BEGIN:STANDARD
TZOFFSETFROM:+0300
TZOFFSETTO:+0200
TZNAME:EET
DTSTART:20141026T010000
END:STANDARD
END:VTIMEZONE
BEGIN:VEVENT
DTSTART;TZID="Europe/Helsinki":20141024T190000
DTEND;TZID="Europe/Helsinki":20141024T210000
DTSTAMP:20260420T184226
CREATED:20141017T120135Z
LAST-MODIFIED:20141017T120135Z
UID:7953-1414177200-1414184400@www.strawanzerin.at
SUMMARY:«Global Shopping Village» Film von Ulli Gladik
DESCRIPTION:Global Shopping Village begleitet einen Shoppingcenterentwickler und seine Branchenkollegen. Sie planen und realisieren Shoppingcenter. Wir beobachten sie bei der Arbeit\, lernen ihre Strategien kennen und folgen ihnen in die verschlungenen Netzwerke des internationalen Kapitals. Doch ihr Handeln bleibt nicht ohne Folgen. An drei repräsentativen Orten in Österreich\, Deutschland und Kroatien führen uns Kritiker und Brancheninsider durch die vielfältigen Auswirkungen: Wir besuchen eine Stadt\, die ihre Funktion verloren hat\, sehen die Blüten von Boom und Blase und erleben\, wie sich allmählich Widerstand zu formieren beginnt.\nDieser österreichische Dokumentarfilm (eine Produktion von Golden Girls Filmproduktion) zeigt\, dass die Immobilienbranche nicht nur Auswirkungen auf das globale Finanzsystem hat\, sondern dass sie auch dramatisch unsere Städte und unsere Lebenswelt verändert. \n  \n
URL:https://www.strawanzerin.at/termin/global-shopping-village-film-von-ulli-gladik/2014-10-24/
ATTACH;FMTTYPE=image/jpeg:https://www.strawanzerin.at/wp-content/uploads/2014/10/Plakat_klein.jpg
END:VEVENT
END:VCALENDAR