BEGIN:VCALENDAR
VERSION:2.0
PRODID:-//STRAWANZERIN - ECPv4.9.5//NONSGML v1.0//EN
CALSCALE:GREGORIAN
METHOD:PUBLISH
X-WR-CALNAME:STRAWANZERIN
X-ORIGINAL-URL:https://www.strawanzerin.at
X-WR-CALDESC:Veranstaltungen im STRAWANZERIN
BEGIN:VTIMEZONE
TZID:"Europe/Vienna"
BEGIN:DAYLIGHT
TZOFFSETFROM:+0100
TZOFFSETTO:+0200
TZNAME:CEST
DTSTART:20170326T010000
END:DAYLIGHT
BEGIN:STANDARD
TZOFFSETFROM:+0200
TZOFFSETTO:+0100
TZNAME:CET
DTSTART:20171029T010000
END:STANDARD
END:VTIMEZONE
BEGIN:VEVENT
DTSTART;TZID="Europe/Vienna":20170404T073000
DTEND;TZID="Europe/Vienna":20170404T220000
DTSTAMP:20260422T135358
CREATED:20170322T104401Z
LAST-MODIFIED:20170323T162620Z
UID:41994-1491291000-1491343200@www.strawanzerin.at
SUMMARY:Gluten Abend!
DESCRIPTION:In schweren Zeiten\, wo psychologische Kriegsführung in Internetforen stattfindet und die Schwarmdummheit beim Public Viewing um sich greift\, wo die Hippieroute versperrt ist und die Produktvielfalt uns in den Wahnsinn treibt\, da – auch da –\nerscheint uns ein Licht im Dunkeln der menschlichen Grausamkeit.\nDenn wenn der letzte Matcha geschlürft\, die letzte Gojibeere geknabbert und der letzte Chia-Pudding vertilgt wurde\, dann werdet Ihr merken\, dass man Brot doch essen kann.\nDanke dafür.\nDanke für diesen Abend.\nDanke\, Gluten. \nIn ihrem ersten Kabarettprogramm beschäftigt sich Sonja Pikart mit abstrusen Nahrungsmittelunverträglichkeiten\, den Träumen und Hoffnungen selbsternannter Künstler\, Mord und Totschlag in veganen Kochforen\, der großen Frage nach dem Sinn des Heiratens und nicht zuletzt – der Weltherrschaft.\nFür „Gluten Abend!“ wurde sie vom Theater am Alsergrund mit dem „Neulingsnagel 2015“ ausgezeichnet\, zur Vize-Kabarettkaiserin bei der Kabarettkrone Hietzing ernannt und für den Rostocker Koggenzieher 2017 nominiert. \n
URL:https://www.strawanzerin.at/termin/gluten-abend-2/
LOCATION:Theater am Alsergrund\, Löblichgasse 5-7\, Wien\, Wien\, 1090\, Österreich
CATEGORIES:ab 7,Deutsch,Kunst/Kultur,Region/Bundesland,Theater/Kabarett,Wien
ATTACH;FMTTYPE=image/jpeg:https://www.strawanzerin.at/wp-content/uploads/2017/03/PressefotoGlutenAbend_Thumbnail-1.jpg
ORGANIZER;CN="Theater%20am%20Alsergrund":MAILTO:office@alsergrund.com
GEO:48.2261214;16.3521696
X-APPLE-STRUCTURED-LOCATION;VALUE=URI;X-ADDRESS=Theater am Alsergrund Löblichgasse 5-7 Wien Wien 1090 Österreich;X-APPLE-RADIUS=500;X-TITLE=Löblichgasse 5-7:geo:16.3521696,48.2261214
END:VEVENT
END:VCALENDAR