BEGIN:VCALENDAR
VERSION:2.0
PRODID:-//STRAWANZERIN - ECPv4.9.5//NONSGML v1.0//EN
CALSCALE:GREGORIAN
METHOD:PUBLISH
X-WR-CALNAME:STRAWANZERIN
X-ORIGINAL-URL:https://www.strawanzerin.at
X-WR-CALDESC:Veranstaltungen im STRAWANZERIN
BEGIN:VTIMEZONE
TZID:"Europe/Helsinki"
BEGIN:DAYLIGHT
TZOFFSETFROM:+0200
TZOFFSETTO:+0300
TZNAME:EEST
DTSTART:20170326T010000
END:DAYLIGHT
BEGIN:STANDARD
TZOFFSETFROM:+0300
TZOFFSETTO:+0200
TZNAME:EET
DTSTART:20171029T010000
END:STANDARD
END:VTIMEZONE
BEGIN:VEVENT
DTSTART;TZID="Europe/Helsinki":20170311T090000
DTEND;TZID="Europe/Helsinki":20170311T170000
DTSTAMP:20260422T135617
CREATED:20170210T104727Z
LAST-MODIFIED:20170210T104727Z
UID:39642-1489222800-1489251600@www.strawanzerin.at
SUMMARY:Go Modelling 2017
DESCRIPTION:Am 11. und 12. März hält die Faszination Modellbau im Heeresgeschichtlichen Museum Einzug. Dabei präsentiert die International Plastic Modellers Society Austria (www.ipms.at) zahlreiche maßstabsgetreue Modelle von Fahrzeugen\, Flugzeugen\, Schiffen\, Tieren und vielem mehr. Diesmal lautet das Sonderthema: »Einfach tierisch«. Hinzu kommen Kinderbasteln und ein Modellbauwettbewerb. Den Rahmen bilden die beeindruckenden Schauräume des Museums mit den Originalen aus Österreichs Militärgeschichte. \nFoto/© www.ipms.at \n
URL:https://www.strawanzerin.at/termin/go-modelling-2017/2017-03-11/
LOCATION:Heeresgeschichtliches Museum\, Arsenal\, Wien\, Wien\, 1030\, Österreich
CATEGORIES:Ausstellung,bis 7,Deutsch,Wien
ATTACH;FMTTYPE=image/jpeg:https://www.strawanzerin.at/wp-content/uploads/2017/02/go_modelling_034-Kopie.jpg
GEO:48.1833104;16.3932274
X-APPLE-STRUCTURED-LOCATION;VALUE=URI;X-ADDRESS=Heeresgeschichtliches Museum Arsenal Wien Wien 1030 Österreich;X-APPLE-RADIUS=500;X-TITLE=Arsenal:geo:16.3932274,48.1833104
END:VEVENT
END:VCALENDAR