BEGIN:VCALENDAR
VERSION:2.0
PRODID:-//STRAWANZERIN - ECPv4.9.5//NONSGML v1.0//EN
CALSCALE:GREGORIAN
METHOD:PUBLISH
X-WR-CALNAME:STRAWANZERIN
X-ORIGINAL-URL:https://www.strawanzerin.at
X-WR-CALDESC:Veranstaltungen im STRAWANZERIN
BEGIN:VTIMEZONE
TZID:"Europe/Vienna"
BEGIN:DAYLIGHT
TZOFFSETFROM:+0100
TZOFFSETTO:+0200
TZNAME:CEST
DTSTART:20190331T010000
END:DAYLIGHT
BEGIN:STANDARD
TZOFFSETFROM:+0200
TZOFFSETTO:+0100
TZNAME:CET
DTSTART:20191027T010000
END:STANDARD
END:VTIMEZONE
BEGIN:VEVENT
DTSTART;TZID="Europe/Vienna":20191019T190000
DTEND;TZID="Europe/Vienna":20191019T213000
DTSTAMP:20260421T121828
CREATED:20190824T140736Z
LAST-MODIFIED:20191002T122949Z
UID:66590-1571511600-1571520600@www.strawanzerin.at
SUMMARY:GOSPEL CELEBRATION – das Mitmachkonzert
DESCRIPTION:Ein Fest mit lauter Statisten? Das kann nichts!  - Das sieht der 80 Stimmen starke Chor GOSPEL project genauso und setzt auf ein neues Konzertformat: das Mitmachkonzert!\nIm neuen Konzept dieses Gospelfestes ist die Rolle des entspannten Zuhörers stark gefährdet. Statt passivem Zurücklehnen und bedient zu werden\, zählt das Mitmachkonzert auf die Spontanität und Gestaltungslust des Publikums. Das beliebte Mitklatschen wird zur Aufwärmübung\, die Stimme wird durch einfache Call & Response Themen auf Betriebstemperatur gebracht und ehe man sich versieht\, ist der Zuhörer schon in der Rolle des aktiven Mitgestalters. Nun bleibt die Frage: Wagen Sie den Schritt aus der Passivität hinein ins aktive Mitgestalten? Dieser Chor glaubt an Sie! – Und Sie? \nWOZU BRAUCHT MAN EIN MITMACHKONZERT?\nRegelmäßig bestätigen begeisterte Zuhörer\, dass sie von der mitreißenden Energie des Chores beeindruckt sind. Alleine das Zuhören und Beobachten hat also schon positive Auswirkungen auf das Publikum. Die Frage drängte sich auf\, was geschehen würde\, wenn das Publikum ganz spontan einsteigen könnte\, und plötzlich mittendrin\, statt nur dabei ist?  \nGOSPEL project wagt dieses Experiment.  Welche Musik würde sich dazu besser eignen\, als Gospelmusik? Gospelmusik zeichnet sich durch eingängige Melodien und mitreißende Rhythmen aus. Zwei wichtige Komponenten für ein gelingendes Mitmachkonzert sind also schon gegeben.  Zusätzlich wird es während des Konzertes an mehreren Stationen die Möglichkeiten der persönlichen Interaktion geben\, um auf ganz unterschiedliche Art und Weise Teil des Ganzen zu werden und das Programm für sich zu vertiefen.  Ein mutiges Konzept\, das ein mutiges Publikum sucht! \nMitwirkende: GOSPEL project unter der musikalischen Leitung von Miriam Fuchsberger\nBand: Johannes Diem (Keys)\, Mathias Griesfelder (E-Bass)\, Rupert Stelzer (Sax)\, Willi Platzer (Percussion)\, Andreas Heusser (Drums)  \nTicketpreise: VVK € 15\,-/AK € 18\,-\, Kids bis 14 Jahre € 5\,-\nVorverkauf + weitere Infos: www.gospelproject.at  \nSamstag\, 19. Okt. 2019\, 19h\nExpedithalle\, Absbergg. 27\, 1100 Wien \n
URL:https://www.strawanzerin.at/termin/gospel-celebration-das-mitmachkonzert/
LOCATION:Expedithalle\, Absberggasse 27\, 1100 Wien\, Wien\, 1100\, Österreich
CATEGORIES:Musik,Wien
ATTACH;FMTTYPE=image/jpeg:https://www.strawanzerin.at/wp-content/uploads/2019/08/GC-FlyerV.jpg
ORGANIZER;CN="GOSPEL%20project":MAILTO:info@gospelproject.at
END:VEVENT
END:VCALENDAR