BEGIN:VCALENDAR
VERSION:2.0
PRODID:-//STRAWANZERIN - ECPv4.9.5//NONSGML v1.0//EN
CALSCALE:GREGORIAN
METHOD:PUBLISH
X-WR-CALNAME:STRAWANZERIN
X-ORIGINAL-URL:https://www.strawanzerin.at
X-WR-CALDESC:Veranstaltungen im STRAWANZERIN
BEGIN:VTIMEZONE
TZID:"Europe/Helsinki"
BEGIN:DAYLIGHT
TZOFFSETFROM:+0200
TZOFFSETTO:+0300
TZNAME:EEST
DTSTART:20140330T010000
END:DAYLIGHT
BEGIN:STANDARD
TZOFFSETFROM:+0300
TZOFFSETTO:+0200
TZNAME:EET
DTSTART:20141026T010000
END:STANDARD
END:VTIMEZONE
BEGIN:VEVENT
DTSTART;TZID="Europe/Helsinki":20141010T220000
DTEND;TZID="Europe/Helsinki":20141013T210000
DTSTAMP:20260420T145434
CREATED:20140930T105112Z
LAST-MODIFIED:20141006T080931Z
UID:7636-1412978400-1413234000@www.strawanzerin.at
SUMMARY:! GRATISBUCHAKTION ZUM SYMBOLTRÄCHTIGEM DATUM ! Ab 10. 10. 10 Uhr (ca.) bis 13. 10. 2014 ca. 9 Uhr (eBook)
DESCRIPTION:! GRATISBUCHAKTION ZUM SYMBOLTRÄCHTIGEM DATUM !\nAb 10. 10. 10 Uhr (ca.) bis 13. 10. 2014 ca. 9 Uhr \nAlso vom Freitag\, 10.10.2014\, ca. 10 Uhr bis Montag\, 13.10.2014 ca. 9 Uhr\ngibt es das LITERARISCHE GRATIS-eBOOK: \nSTEHE AUF\, NIMM DEIN BETT UND SCHREIBE!\nKeine Ruhepolster für Wolfgang Wallner-F.!\nEin Lesebuch (über 370 Seiten)\nvon seinem Alter Ego double U wOOlfie\nJohn Curtis Jackson gewidmet\,\nder 100 Jahre vor Wolfgang Wallner-F.s‘ Geburt\, also 1848 die ersten Kaugummis in seiner Fabrik produzierte! \nAls eBooks völlig gratis und unverbindlich für PC\, Reader und Mobilgeräte.\nZugang über die Internetseite http://wolfgangwallnerf.com/\nBITTE WEITERSAGEN\, DAMIT AUCH EURE FREUNDE DAS BEKOMMEN!\nMit WEM WOLLT IHR NACH DIESEM EVENT DARÜBER AUCH SONST SPRECHEN? \nWolfgang Wallner-F. schreibt nicht! Er will nur mehr Gitarre spielen und dazu singen. Mit Freunden und Freuden! Was für Wolfgang erfreulich sein mag\, ist für sein alter ego doubleUwOOlfie ein Gräuel!\nIn diesem Buch zeigt doubleUwOOlfie seinem zweiten Selbst einige seiner Texte – veröffentlicht\, unveröffentlicht oder noch unfertig – und fordert ihn auf etwa 370 Seiten auf\, weiter zu schreiben. EIN LESEBUCH!\nWas weiter geschieht wird die Internetseite des Schriftstellers Wolfgang Wallner-F. zeigen! http://wolfgangwallnerf.com/\nBack Cover Text: „Ein wahrer Freund ist gleichsam ein zweites Selbst“ (Cicero: verus amicus […] est […] tamquam alter die) Ja\, doubleUwOOlfie ist das zweite Selbst Wolfgang Wallner-F.‘s.\nMein Anderer\, Wolfgang\, kam aus vielen Gründen aus dem Schreiben\, spielt höchstens als alter ego Gitarre und singt. Dabei hätte er viele Ideen und fast ebenso viele unvollständige Manuskripte. Vielleicht kann ich ihn mit diesem Buch\, das Auszüge aus erschienen und unveröffentlichten Werken beinhaltet\, aus seiner Ruhestellung locken.\nWenn Sie ihn sehen\, sagen Sie ihm das bitte!\nInhalt: Auszüge aus den veröffentlichten Büchern: Elihu – Hinterlassene Aufzeichnungen aus der Ewigkeit\, Joseph – Der Weg zum Graal\, Erinnerungen an Franz Kisseneppner und andere sinnvolle Gedanken\, Bemerkungen zu … Interpretationen\, Inhalte und Gedanken zu einigen Werken aus der Deutschen Literatur\, Doppelgänger (Trauerkantate)\, Polyphonie (Libretto)\, Tobias – Gedichte und Liedtexte nebst einigen märchenhaften Texten\, Mögen sie fliegen\, Bisher unveröffentlichte Werke: irre-parabel\, Das Geheimnis – Jahre meines Großvaters\, Der Kaffeeautomat oder Von Kobolden und Zipfelmäusen\, Fröschen und Zwergen\, Neuester Rätselschatz aus dem Jahre 1890: Reichhaltigste Rätselsammlung für Jung und Alt \n
URL:https://www.strawanzerin.at/termin/gratisbuchaktion-zum-symboltraechtigem-datum-ab-10-10-10-uhr-ca-bis-13-10-2014-ca-9-uhr-ebook/
CATEGORIES:Deutsch,Gratis,Kunst/Kultur,Literatur
ATTACH;FMTTYPE=image/jpeg:https://www.strawanzerin.at/wp-content/uploads/2014/09/Sonnenbrille.jpg
END:VEVENT
END:VCALENDAR