BEGIN:VCALENDAR
VERSION:2.0
PRODID:-//STRAWANZERIN - ECPv4.9.5//NONSGML v1.0//EN
CALSCALE:GREGORIAN
METHOD:PUBLISH
X-WR-CALNAME:STRAWANZERIN
X-ORIGINAL-URL:https://www.strawanzerin.at
X-WR-CALDESC:Veranstaltungen im STRAWANZERIN
BEGIN:VTIMEZONE
TZID:"Europe/Vienna"
BEGIN:DAYLIGHT
TZOFFSETFROM:+0100
TZOFFSETTO:+0200
TZNAME:CEST
DTSTART:20250330T010000
END:DAYLIGHT
BEGIN:STANDARD
TZOFFSETFROM:+0200
TZOFFSETTO:+0100
TZNAME:CET
DTSTART:20251026T010000
END:STANDARD
END:VTIMEZONE
BEGIN:VEVENT
DTSTART;TZID="Europe/Vienna":20250116T200000
DTEND;TZID="Europe/Vienna":20250116T220000
DTSTAMP:20260423T123042
CREATED:20241104T164939Z
LAST-MODIFIED:20241104T164939Z
UID:104390-1737057600-1737064800@www.strawanzerin.at
SUMMARY:Gregor Seberg »Schatzkiste«
DESCRIPTION:Nach bislang 5 Kabarett-Soloprogrammen packt Gregor Seberg seine Schatzkiste aus! \nDa darf Gérard nicht fehlen\, der als Franzose natürlich über die Liebe spricht\, wir besuchen das Lieblingsbundesland von Gregor (das sich natürlich täglich ändert)\, er wird sich über seinen ersten Kuss auslassen und natürlich gibt es auch ein bisschen vom Tierforscher Gregor\, wenn er von seinem Glückstier\, dem Honigdachs\, erzählt. \nEr hat schon ein bisschen und noch mehr zu erzählen. Und weil das noch nicht genug ist\, gibt es jeden Abend auch immer wieder etwas Neues\, das auseinandergenommen\, neu zusammengeschachtelt\, wieder umgestülpt und in einem anderen Licht betrachtet werden muss. Weil wir kennen (und lieben) ihn dafür\, dass er für und mit dem Publikum improvisiert und blödelt. \n
URL:https://www.strawanzerin.at/termin/gregor-seberg-schatzkiste/
LOCATION:Papierfabrik Varieté\, Kirchenplatz 9\, Kleinneusiedl\, Niederösterreich\, 2431
CATEGORIES:Niederösterreich,Theater/Kabarett
ATTACH;FMTTYPE=image/jpeg:https://www.strawanzerin.at/wp-content/uploads/2024/10/Gregor-Seberg-quer-c-JanFrankl-scaled.jpeg
ORGANIZER;CN="Papierfabrik%20Variet%C3%A9":MAILTO:info@papierfabrik-variete.com
END:VEVENT
END:VCALENDAR