BEGIN:VCALENDAR
VERSION:2.0
PRODID:-//STRAWANZERIN - ECPv4.9.5//NONSGML v1.0//EN
CALSCALE:GREGORIAN
METHOD:PUBLISH
X-WR-CALNAME:STRAWANZERIN
X-ORIGINAL-URL:https://www.strawanzerin.at
X-WR-CALDESC:Veranstaltungen im STRAWANZERIN
BEGIN:VTIMEZONE
TZID:"Europe/Paris"
BEGIN:DAYLIGHT
TZOFFSETFROM:+0100
TZOFFSETTO:+0200
TZNAME:CEST
DTSTART:20150329T010000
END:DAYLIGHT
BEGIN:STANDARD
TZOFFSETFROM:+0200
TZOFFSETTO:+0100
TZNAME:CET
DTSTART:20151025T010000
END:STANDARD
END:VTIMEZONE
BEGIN:VEVENT
DTSTART;TZID="Europe/Paris":20150820T200000
DTEND;TZID="Europe/Paris":20150820T200000
DTSTAMP:20260421T152558
CREATED:20150807T100210Z
LAST-MODIFIED:20150807T102920Z
UID:18937-1440100800-1440100800@www.strawanzerin.at
SUMMARY:Grenzenlos jodeln
DESCRIPTION:Christina Zurbrügg singt\, spielt Akkordeon und jodelt natürlich. Und das alles kombiniert sie mit archaischen Sounds\, Naturklängen\, Flamenco und Elektronik. Diese spezielle Kombination macht ihre Performances und ihr Jodeln zeitlos und international\, da sie als polyglotte Musikerin mit Schweizer Wurzeln in Deutsch\, Englisch\, Französisch und Spanisch singt. Eine Besonderheit sind diesmal auch die Neuinterpretationen der Wiener Salonjodler. Am 20. August 2015 um 20.00 Uhr präsentiert sie sich mit Band im Schloss Goldegg.  \n
URL:https://www.strawanzerin.at/termin/grenzenlos-jodeln/
LOCATION:Österreich
CATEGORIES:Musik,Salzburg
ATTACH;FMTTYPE=:
END:VEVENT
END:VCALENDAR