BEGIN:VCALENDAR
VERSION:2.0
PRODID:-//STRAWANZERIN - ECPv4.9.5//NONSGML v1.0//EN
CALSCALE:GREGORIAN
METHOD:PUBLISH
X-WR-CALNAME:STRAWANZERIN
X-ORIGINAL-URL:https://www.strawanzerin.at
X-WR-CALDESC:Veranstaltungen im STRAWANZERIN
BEGIN:VTIMEZONE
TZID:"Europe/Paris"
BEGIN:DAYLIGHT
TZOFFSETFROM:+0100
TZOFFSETTO:+0200
TZNAME:CEST
DTSTART:20150329T010000
END:DAYLIGHT
BEGIN:STANDARD
TZOFFSETFROM:+0200
TZOFFSETTO:+0100
TZNAME:CET
DTSTART:20151025T010000
END:STANDARD
END:VTIMEZONE
BEGIN:VEVENT
DTSTART;TZID="Europe/Paris":20150621T150000
DTEND;TZID="Europe/Paris":20150621T180000
DTSTAMP:20260421T003114
CREATED:20150612T080427Z
LAST-MODIFIED:20150612T080624Z
UID:17536-1434898800-1434909600@www.strawanzerin.at
SUMMARY:Griechenland ist nicht allein! Solidaritäts-Picknick und Kundgebung
DESCRIPTION:15:00: Picknick mit Infostand\, Gesprächen mit Griech_innen und griechischen Spezialitäten inkl. RevolOuzo am Heldenplatz\n17:00: Kundgebung am Ballhausplatz \nDer Konflikt zwischen Griechenland und den Gläubiger_innen spitzt sich zu. Die Eurogruppe und die Institutionen fordern die Fortsetzung von Sozialkürzungen\, Privatisierungen und des Abbaus von Arbeitsrechten. Doch die Menschen in Griechenland haben genug. Sie wollen einen echten Kurswechsel. \nIn Griechenland entscheidet sich\, ob in der Europäischen Union eine Alternative zu Verarmungspolitik und Demokratieabbau möglich ist. Die griechische Regierung kämpft dabei auch für die große Mehrheit der Menschen in Europa\, die unter der Krisenpolitik leidet. Die Herrschenden Europas auf der Gegenseite tun alles\, um die griechische Regierung scheitern zu lassen. Auch Österreichs Regierung ist Teil der Erpresser_innen. \nHerr Faymann\, Herr Schelling – hören Sie auf\, Griechenland zu erpressen!\nDer griechische Kampf ist auch unser Kampf!\nAuch Österreich braucht einen Kurswechsel! \nAm 21. Juni treffen wir uns zum Solidaritäts-Picknick am Heldenplatz mit anschließender Kundgebung am Ballhausplatz. Kommt vorbei! \nZusammen mit der griechische Community Wiens und mehreren politische Organisationen (Attac Österreich\, Transform. European Network for Alternative Thinking and Political Dialogue \, Junge Grüne / Junge Alternative\, VSStÖ Wien \, Wien anders \, KPÖ – Kommunistische Partei Österreichs\, Interventionistische Linke\, Solidarity4all Vienna\, Precarity Office Vienna\, Marea Granate Viena und Griechenland entscheidet) folgen wir dem Internationallen Aufruf für eine Woche der Solidarität mit Griechenland (20.06- bis 27.06). \nMeet the Greek\, eat greek food and drink RevolOuzo! \nSambAttac Viena/Wien sorgt für die feierliche Soli-Stimmung! \nEs werden auch Spenden gesammelt für die Solidaritätsinitiative „Το μυρμήγκι“ – Δίκτυο αλληλεγγύης 6ης Κοινότητας Αθήνας(Ameise). \n„Mirmigki “ ist eine selbst-verwaltete Organisation die Menschen in eine der ärmste Vierteln Athens mit Lebensmittel versorgt. Mehr über Mirmigki kannst du hier erfahren: http://fm4.orf.at/stories/1759675/ \n
URL:https://www.strawanzerin.at/termin/griechenland-ist-nicht-allein-solidaritaets-picknick-und-kundgebung/
CATEGORIES:Deutsch,Gratis,Kundgebung,Soziale Kämpfe,Wien
END:VEVENT
END:VCALENDAR