BEGIN:VCALENDAR
VERSION:2.0
PRODID:-//STRAWANZERIN - ECPv4.9.5//NONSGML v1.0//EN
CALSCALE:GREGORIAN
METHOD:PUBLISH
X-WR-CALNAME:STRAWANZERIN
X-ORIGINAL-URL:https://www.strawanzerin.at
X-WR-CALDESC:Veranstaltungen im STRAWANZERIN
BEGIN:VTIMEZONE
TZID:"Europe/Helsinki"
BEGIN:DAYLIGHT
TZOFFSETFROM:+0200
TZOFFSETTO:+0300
TZNAME:EEST
DTSTART:20150329T010000
END:DAYLIGHT
BEGIN:STANDARD
TZOFFSETFROM:+0300
TZOFFSETTO:+0200
TZNAME:EET
DTSTART:20151025T010000
END:STANDARD
END:VTIMEZONE
BEGIN:VEVENT
DTSTART;TZID="Europe/Helsinki":20150413T190000
DTEND;TZID="Europe/Helsinki":20150413T210000
DTSTAMP:20260422T110622
CREATED:20150323T134050Z
LAST-MODIFIED:20150325T090316Z
UID:12639-1428951600-1428958800@www.strawanzerin.at
SUMMARY:"Griechenland: Schulden und Sünder"
DESCRIPTION:Was passiert\, wenn Griechenland nicht mehr zahlt. \nStephan Schulmeister (WIFO)\, Gabriele Michalitsch (Institut für Politikwissenschaft\, Universität Wien) und Katerina Anastasiou (Solidarity for all) diskutieren über die Folgen der Austeritätspolitik\, sowie Deutschlands und Österreichs Schulden bei Griechenland. \nModeration: Michael Schmid (Grüne Bildungswerkstatt Wien) \n
URL:https://www.strawanzerin.at/termin/griechenland-schulden-und-suender/
CATEGORIES:Deutsch,Gratis,Soziale Kämpfe,Vortrag/Symposium,Wien
ATTACH;FMTTYPE=image/png:https://www.strawanzerin.at/wp-content/uploads/2015/03/Tempel-2.png
ORGANIZER;CN="Gr%C3%BCne%20Bildungswerkstatt%20Wien":MAILTO:info.wien@gbw.at
END:VEVENT
END:VCALENDAR