BEGIN:VCALENDAR
VERSION:2.0
PRODID:-//STRAWANZERIN - ECPv4.9.5//NONSGML v1.0//EN
CALSCALE:GREGORIAN
METHOD:PUBLISH
X-WR-CALNAME:STRAWANZERIN
X-ORIGINAL-URL:https://www.strawanzerin.at
X-WR-CALDESC:Veranstaltungen im STRAWANZERIN
BEGIN:VTIMEZONE
TZID:"Europe/Helsinki"
BEGIN:DAYLIGHT
TZOFFSETFROM:+0200
TZOFFSETTO:+0300
TZNAME:EEST
DTSTART:20150329T010000
END:DAYLIGHT
BEGIN:STANDARD
TZOFFSETFROM:+0300
TZOFFSETTO:+0200
TZNAME:EET
DTSTART:20151025T010000
END:STANDARD
END:VTIMEZONE
BEGIN:VEVENT
DTSTART;TZID="Europe/Helsinki":20150430T200000
DTEND;TZID="Europe/Helsinki":20150430T223000
DTSTAMP:20260420T131943
CREATED:20150411T133120Z
LAST-MODIFIED:20150413T163513Z
UID:12854-1430424000-1430433000@www.strawanzerin.at
SUMMARY:Griechischer Abend
DESCRIPTION:Wenn Tina Rauch zur Gitarre greift\, werden Erinnerungen an den letzten Griechenlandurlaub wach. Sie bringt Lieder von Nana Mouskouri\, Mikis Theodorakis\, Melina Merkouri und Haris Alexiou. Bei dem alten Tanzlied „Zeimbebiko tis Evdokias“ greift sie zu einem sehr alten\, selten gespielten Instrument – der Baglama. Begleitet wird sie von Manfred Biglbauer (Bass) und Mike Lomoz (Gitarre\, Bouzouki). \n
URL:https://www.strawanzerin.at/termin/griechischer-abend-im-industrie/
LOCATION:Traditionscafé Industrie\, Margaretengürtel 12\, Wien\, Wien\, 1050\, Österreich
CATEGORIES:Deutsch,freie Spende,Musik,Sonstiges,Wien
ATTACH;FMTTYPE=image/jpeg:https://www.strawanzerin.at/wp-content/uploads/2015/04/griechischer_abend_fb.jpg
ORGANIZER;CN="Ruth%20Binder":MAILTO:event@cafe-industrie.at
GEO:48.1838252;16.3664539
X-APPLE-STRUCTURED-LOCATION;VALUE=URI;X-ADDRESS=Traditionscafé Industrie Margaretengürtel 12 Wien Wien 1050 Österreich;X-APPLE-RADIUS=500;X-TITLE=Margaretengürtel 12:geo:16.3664539,48.1838252
END:VEVENT
END:VCALENDAR