BEGIN:VCALENDAR
VERSION:2.0
PRODID:-//STRAWANZERIN - ECPv4.9.5//NONSGML v1.0//EN
CALSCALE:GREGORIAN
METHOD:PUBLISH
X-WR-CALNAME:STRAWANZERIN
X-ORIGINAL-URL:https://www.strawanzerin.at
X-WR-CALDESC:Veranstaltungen im STRAWANZERIN
BEGIN:VTIMEZONE
TZID:"Europe/Vienna"
BEGIN:DAYLIGHT
TZOFFSETFROM:+0100
TZOFFSETTO:+0200
TZNAME:CEST
DTSTART:20230326T010000
END:DAYLIGHT
BEGIN:STANDARD
TZOFFSETFROM:+0200
TZOFFSETTO:+0100
TZNAME:CET
DTSTART:20231029T010000
END:STANDARD
END:VTIMEZONE
BEGIN:VEVENT
DTSTART;TZID="Europe/Vienna":20230623T140000
DTEND;TZID="Europe/Vienna":20230623T190000
DTSTAMP:20260420T161621
CREATED:20230627T170609Z
LAST-MODIFIED:20230627T170609Z
UID:92350-1687528800-1687546800@www.strawanzerin.at
SUMMARY:Großer Flohmarkt
DESCRIPTION:Jeden FREITAG von 14.00 bis 19.00 Uhr auf der Brucknerstr. 13\, 4800 Attnang veranstaltet der Verein einen Flohmarkt:\nMöbel\, Herren-\, Damen- und Kinderbekleidung\, Geschirr\, Besteck\, Schuhe\, Taschen\, Spielsachen\, Bilder\, Bücher\, Uhren\, Dekoration uvm.\nIhr Besuch ist für uns eine große und wichtige Unterstützung\, weil unsere Einnahmen aus den Aktivitäten zu 100% in Soziale Projekte fließen.\nWir haben bereits kleine und große Veranstaltungen aller Art organisiert.\nKontakt: +43 66911990242 \n
URL:https://www.strawanzerin.at/termin/grosser-flohmarkt/2023-06-23/
LOCATION:4800 Attnang-Puchheim\, Brucknerstraße 13\, Attnang-Puchheim\, Oberöstrreich\, 4800\, Österreich
CATEGORIES:Flohmarkt,Gratis,Oberösterreich,Sonstiges
ATTACH;FMTTYPE=image/png:https://www.strawanzerin.at/wp-content/uploads/2023/06/Flohmarkt-1.png
END:VEVENT
END:VCALENDAR