BEGIN:VCALENDAR
VERSION:2.0
PRODID:-//STRAWANZERIN - ECPv4.9.5//NONSGML v1.0//EN
CALSCALE:GREGORIAN
METHOD:PUBLISH
X-WR-CALNAME:STRAWANZERIN
X-ORIGINAL-URL:https://www.strawanzerin.at
X-WR-CALDESC:Veranstaltungen im STRAWANZERIN
BEGIN:VTIMEZONE
TZID:"Europe/Vienna"
BEGIN:DAYLIGHT
TZOFFSETFROM:+0100
TZOFFSETTO:+0200
TZNAME:CEST
DTSTART:20210328T010000
END:DAYLIGHT
BEGIN:STANDARD
TZOFFSETFROM:+0200
TZOFFSETTO:+0100
TZNAME:CET
DTSTART:20211031T010000
END:STANDARD
BEGIN:DAYLIGHT
TZOFFSETFROM:+0100
TZOFFSETTO:+0200
TZNAME:CEST
DTSTART:20220327T010000
END:DAYLIGHT
BEGIN:STANDARD
TZOFFSETFROM:+0200
TZOFFSETTO:+0100
TZNAME:CET
DTSTART:20221030T010000
END:STANDARD
END:VTIMEZONE
BEGIN:VEVENT
DTSTART;TZID="Europe/Vienna":20211220T200000
DTEND;TZID="Europe/Vienna":20220118T220000
DTSTAMP:20260423T193609
CREATED:20211129T192456Z
LAST-MODIFIED:20211215T173345Z
UID:82075-1640030400-1642543200@www.strawanzerin.at
SUMMARY:Günther Zäuner und Stefanie Knechtl bei bilder.worte.töne
DESCRIPTION:Günther Zäuner: Halbseidenes dunkles Wien. 12 Krimis aus der Zwischenkriegszeit.\nWolfshetze. Ein Kokoschansky-Krimi.\nStefanie Knechtl: Körperlichkeiten – Linolschnitte & Acrylmalerei \n
URL:https://www.strawanzerin.at/termin/guenther-zaeuner-und-stefanie-knechtl-bei-bilder-worte-toene/
LOCATION:Osteria Allora\, Wallensteinplatz 5-6\, Wien\, Wien\, 1200\, Österreich
CATEGORIES:Ausstellung,Deutsch,Gratis,Kunst/Kultur,Literatur,Wien
ATTACH;FMTTYPE=image/jpeg:https://www.strawanzerin.at/wp-content/uploads/2021/11/2021_12_20-Vernissage-Lesung.jpg
ORGANIZER;CN="Ursula%20Pfeiffer%20verein%20%3A%3Akunst-projekte%3A%3A%20der%20%5Bgalerie%5Dstudio38%20zvr%20123612155":MAILTO:office@galeriestudio38.at
GEO:48.2295781;16.3715666
X-APPLE-STRUCTURED-LOCATION;VALUE=URI;X-ADDRESS=Osteria Allora Wallensteinplatz 5-6 Wien Wien 1200 Österreich;X-APPLE-RADIUS=500;X-TITLE=Wallensteinplatz 5-6:geo:16.3715666,48.2295781
END:VEVENT
END:VCALENDAR