BEGIN:VCALENDAR
VERSION:2.0
PRODID:-//STRAWANZERIN - ECPv4.9.5//NONSGML v1.0//EN
CALSCALE:GREGORIAN
METHOD:PUBLISH
X-WR-CALNAME:STRAWANZERIN
X-ORIGINAL-URL:https://www.strawanzerin.at
X-WR-CALDESC:Veranstaltungen im STRAWANZERIN
BEGIN:VTIMEZONE
TZID:"Europe/Helsinki"
BEGIN:DAYLIGHT
TZOFFSETFROM:+0200
TZOFFSETTO:+0300
TZNAME:EEST
DTSTART:20160327T010000
END:DAYLIGHT
BEGIN:STANDARD
TZOFFSETFROM:+0300
TZOFFSETTO:+0200
TZNAME:EET
DTSTART:20161030T010000
END:STANDARD
END:VTIMEZONE
BEGIN:VEVENT
DTSTART;TZID="Europe/Helsinki":20160621T183000
DTEND;TZID="Europe/Helsinki":20160621T213000
DTSTAMP:20260422T153130
CREATED:20160524T155129Z
LAST-MODIFIED:20160525T170849Z
UID:29398-1466533800-1466544600@www.strawanzerin.at
SUMMARY:Guter Jahreszeitenwechsel ist besser
DESCRIPTION:Rund um die Tage zur Sommer- und Wintersonnenwende sowie zur Tag- und Nachtgleiche widmen wir uns ganz besonders unserem Körper\, unserem Geist und unserer Seele. Ganz bewusst stellen wir uns auf die jeweilige Jahreszeit ein\, auf die Qualität\, die jede Saison mit sich bringt. \n
URL:https://www.strawanzerin.at/termin/guter-jahreszeitenwechsel-ist-besser/
LOCATION:Gutes Leben ist besser\, Raffaelgasse 20 / I / 1\, Wien\, Wien\, 1200\, Österreich
ORGANIZER;CN="Petra%20Waltner":MAILTO:info@guteslebenistbesser.at
GEO:48.23053;16.3722066
X-APPLE-STRUCTURED-LOCATION;VALUE=URI;X-ADDRESS=Gutes Leben ist besser Raffaelgasse 20 / I / 1 Wien Wien 1200 Österreich;X-APPLE-RADIUS=500;X-TITLE=Raffaelgasse 20 / I / 1:geo:16.3722066,48.23053
END:VEVENT
END:VCALENDAR