BEGIN:VCALENDAR
VERSION:2.0
PRODID:-//STRAWANZERIN - ECPv4.9.5//NONSGML v1.0//EN
CALSCALE:GREGORIAN
METHOD:PUBLISH
X-WR-CALNAME:STRAWANZERIN
X-ORIGINAL-URL:https://www.strawanzerin.at
X-WR-CALDESC:Veranstaltungen im STRAWANZERIN
BEGIN:VTIMEZONE
TZID:"Europe/Helsinki"
BEGIN:DAYLIGHT
TZOFFSETFROM:+0200
TZOFFSETTO:+0300
TZNAME:EEST
DTSTART:20150329T010000
END:DAYLIGHT
BEGIN:STANDARD
TZOFFSETFROM:+0300
TZOFFSETTO:+0200
TZNAME:EET
DTSTART:20151025T010000
END:STANDARD
END:VTIMEZONE
BEGIN:VEVENT
DTSTART;TZID="Europe/Helsinki":20151030T183000
DTEND;TZID="Europe/Helsinki":20151030T200000
DTSTAMP:20260421T071413
CREATED:20151012T122247Z
LAST-MODIFIED:20151019T122346Z
UID:20831-1446229800-1446235200@www.strawanzerin.at
SUMMARY:Guy Standing - The Precariat: Towards a New Progressive Politics
DESCRIPTION:Wir leben inmitten einer globalen Veränderung\, der schmerzhaften Konstruktion eines globalen Marktes\, die durch neoliberale Ökonomie und ihre Ideologie bestimmt wird. Das Resultat ist der komplette Zusammenbruch des Einkommensystems des 20. Jahrhunderts. Viele Arten der Ungleichheit haben zugenommen und historisch neue globale Klassenverhältnisse sind entstanden. Ein Teil ist das Prekariat\, eine im Entstehen begriffene Klasse\, die aus Millionen von Menschen besteht\, die an chronischer Unsicherheit leiden. Durch seine besondere Stellung zur Produktion\, zum Einkommenssystem und zum Staat mangelt es dem Prekariat an zivilen\, kulturellen\, sozialen\, politischen und ökonomischen Rechten. Mit Bezug auf seine letzten Publikationen (The Precariat – The New Dangerous Class; A Precariat Charter: From Denizens to Citizens) wird der Vortrag die Gefahren\, insbesondere die Möglichkeit eines neofaschistischen Populismus thematisieren\, aber ebenso die Perpektive einer neuen progressiven Politik aufzeigen. Ein wesentlicher Aspekt der Erneuerung der Aufklärung für das 21. Jahrhundert muss das Recht auf ein bedingungsloses Grundeinkommen sein.  \nGuy Standing ist Professor am SOAS – Development Studies\, der University von London und war Professor für Economic Security an der University of Bath\, Professor für Labour Economics an der Monash University\, Melbourne\, sowie Director der ILO Socio-Economic Security Programme (1999-2006) und Director der ILO Labour Market Policies Branch.  \n
URL:https://www.strawanzerin.at/termin/guy-standing-the-precariat-towards-a-new-progressive-politics/
LOCATION:Neues Institutsgebäude (NIG) der Universität Wien\, Universitätsstraße 7\, HS II\, 1010 Wien\, Österreich
CATEGORIES:Englisch,Gratis,Soziale Kämpfe,Vortrag/Symposium,Wien
ORGANIZER;CN="Netzwerk%20Grundeinkommen%20und%20sozialer%20Zusammenhalt%20B.I.E.N%20Austria":MAILTO:karl.reitter@univie.ac.at
GEO:48.2141511;16.3577839
X-APPLE-STRUCTURED-LOCATION;VALUE=URI;X-ADDRESS=Neues Institutsgebäude (NIG) der Universität Wien Universitätsstraße 7 HS II 1010 Wien Österreich;X-APPLE-RADIUS=500;X-TITLE=Universitätsstraße 7\, HS II:geo:16.3577839,48.2141511
END:VEVENT
END:VCALENDAR