BEGIN:VCALENDAR
VERSION:2.0
PRODID:-//STRAWANZERIN - ECPv4.9.5//NONSGML v1.0//EN
CALSCALE:GREGORIAN
METHOD:PUBLISH
X-WR-CALNAME:STRAWANZERIN
X-ORIGINAL-URL:https://www.strawanzerin.at
X-WR-CALDESC:Veranstaltungen im STRAWANZERIN
BEGIN:VTIMEZONE
TZID:"Europe/Vienna"
BEGIN:DAYLIGHT
TZOFFSETFROM:+0100
TZOFFSETTO:+0200
TZNAME:CEST
DTSTART:20170326T010000
END:DAYLIGHT
BEGIN:STANDARD
TZOFFSETFROM:+0200
TZOFFSETTO:+0100
TZNAME:CET
DTSTART:20171029T010000
END:STANDARD
END:VTIMEZONE
BEGIN:VEVENT
DTSTART;TZID="Europe/Vienna":20170916T180000
DTEND;TZID="Europe/Vienna":20170916T220000
DTSTAMP:20260422T061224
CREATED:20170908T065722Z
LAST-MODIFIED:20170908T065722Z
UID:46663-1505584800-1505599200@www.strawanzerin.at
SUMMARY:habitat . installation mit physarum polycephalum
DESCRIPTION:Es gibt Menschen\, Tiere\, Pflanzen\, Steine\, Bakterien – und es gibt Schleimpilze. In ihrem Lebenszyklus durchlaufen sie Stadien von einer winzigen unbeweglichen Zelle über schleimige\, amorphe Organismen bis hin zu Fruchtkörpern.  Sie verdauen alles\, was sie überwachsen können\, modrige Blätter\, morsches Holz\, Getreideflocken. Als „Caca de Luna“ werden sie von Menschen gegrillt gegessen\, sonst interessieren sich auch Käfer und Milben für sie. Schleimpilze sind beweglich und finden sich sogar in einem Labyrinth zurecht. Das ist insofern überraschend\, als diese Lebewesen nur über eine Zelle und keine gehirnähnlichen Strukturen verfügen.  Der sonnengelbe Schleimpilz „Physarum polycephalum“ wird bei lebenswichtigen Fragen Entscheidungshilfen geben: Wie bewege ich mich am besten durch das Kellerlabyrinth von Herrnbaumgarten; wie optimiere ich Organisationsstrukturen; was entwickelt sich\, wenn man Schleimpilze mit gesellschaftlichen und politischen Fragen konfrontiert? In der Galerie wird eine Installation ausgestellt\, die den Schleimpilz in seinem Habitat bei seiner Denkarbeit zeigt. \n
URL:https://www.strawanzerin.at/termin/habitat-installation-mit-physarum-polycephalum/
LOCATION:Galerie wechselstrom\, Grundsteingasse 44\, 1160 Wien\, Wien\, 1160\, Österreich
CATEGORIES:Ausstellung,Gratis
ATTACH;FMTTYPE=image/jpeg:https://www.strawanzerin.at/wp-content/uploads/2017/09/IMG_1226.jpg
ORGANIZER;CN="wechselstrom":MAILTO:renate@wechsel-strom.net
GEO:48.2104157;16.3337081
X-APPLE-STRUCTURED-LOCATION;VALUE=URI;X-ADDRESS=Galerie wechselstrom Grundsteingasse 44 1160 Wien Wien 1160 Österreich;X-APPLE-RADIUS=500;X-TITLE=Grundsteingasse 44:geo:16.3337081,48.2104157
END:VEVENT
END:VCALENDAR