BEGIN:VCALENDAR
VERSION:2.0
PRODID:-//STRAWANZERIN - ECPv4.9.5//NONSGML v1.0//EN
CALSCALE:GREGORIAN
METHOD:PUBLISH
X-WR-CALNAME:STRAWANZERIN
X-ORIGINAL-URL:https://www.strawanzerin.at
X-WR-CALDESC:Veranstaltungen im STRAWANZERIN
BEGIN:VTIMEZONE
TZID:"Europe/Vienna"
BEGIN:DAYLIGHT
TZOFFSETFROM:+0100
TZOFFSETTO:+0200
TZNAME:CEST
DTSTART:20220327T010000
END:DAYLIGHT
BEGIN:STANDARD
TZOFFSETFROM:+0200
TZOFFSETTO:+0100
TZNAME:CET
DTSTART:20221030T010000
END:STANDARD
END:VTIMEZONE
BEGIN:VEVENT
DTSTART;TZID="Europe/Vienna":20220621T180000
DTEND;TZID="Europe/Vienna":20220621T190000
DTSTAMP:20260420T133514
CREATED:20220531T063829Z
LAST-MODIFIED:20220610T104921Z
UID:85293-1655834400-1655838000@www.strawanzerin.at
SUMMARY:Hämophilie: Ist Gentherapie die Zukunft?
DESCRIPTION:In dieser Veranstaltung der Interessensgemeinschaft Hämophiler (IGH) e.V. besprechen die Experten die Zukunft der Gentherapie bei Hämophilie und gehen auf Ihre Fragen ein.\nDas Programm beinhaltet grundlegende Definitionen zu den Themen Gentherapie und Hämophilie\, sowie spezifische Anwendungsfälle der Gentherapie bei Hämophilie. \n
URL:https://www.strawanzerin.at/termin/haemophilie-ist-gentherapie-die-zukunft/
LOCATION:online
CATEGORIES:Bildung,Gesundheit,Gratis,Vortrag/Symposium
ATTACH;FMTTYPE=image/png:https://www.strawanzerin.at/wp-content/uploads/2022/05/Werbebanner-Gentherapie-IGH-2022_neu-1024x576-1.png
END:VEVENT
END:VCALENDAR